BEGIN:VCALENDAR
VERSION:2.0
PRODID:-//WESP - ECPv6.15.20//NONSGML v1.0//EN
CALSCALE:GREGORIAN
METHOD:PUBLISH
X-WR-CALNAME:WESP
X-ORIGINAL-URL:https://jongerenverenigingwesp.nl
X-WR-CALDESC:Evenementen voor WESP
REFRESH-INTERVAL;VALUE=DURATION:PT1H
X-Robots-Tag:noindex
X-PUBLISHED-TTL:PT1H
BEGIN:VTIMEZONE
TZID:Europe/Amsterdam
BEGIN:DAYLIGHT
TZOFFSETFROM:+0100
TZOFFSETTO:+0200
TZNAME:CEST
DTSTART:20190331T010000
END:DAYLIGHT
BEGIN:STANDARD
TZOFFSETFROM:+0200
TZOFFSETTO:+0100
TZNAME:CET
DTSTART:20191027T010000
END:STANDARD
BEGIN:DAYLIGHT
TZOFFSETFROM:+0100
TZOFFSETTO:+0200
TZNAME:CEST
DTSTART:20200329T010000
END:DAYLIGHT
BEGIN:STANDARD
TZOFFSETFROM:+0200
TZOFFSETTO:+0100
TZNAME:CET
DTSTART:20201025T010000
END:STANDARD
BEGIN:DAYLIGHT
TZOFFSETFROM:+0100
TZOFFSETTO:+0200
TZNAME:CEST
DTSTART:20210328T010000
END:DAYLIGHT
BEGIN:STANDARD
TZOFFSETFROM:+0200
TZOFFSETTO:+0100
TZNAME:CET
DTSTART:20211031T010000
END:STANDARD
END:VTIMEZONE
BEGIN:VEVENT
DTSTART;TZID=Europe/Amsterdam:20200801T200000
DTEND;TZID=Europe/Amsterdam:20200802T020000
DTSTAMP:20260422T170101
CREATED:20200729T064741Z
LAST-MODIFIED:20200729T175608Z
UID:2054-1596312000-1596333600@jongerenverenigingwesp.nl
SUMMARY:Online Soos
DESCRIPTION:Op zaterdag 1 augustus houden we vanaf 20:00 de Online Soos op Discord. Via boardgamearena spelen we dan online bordspellen zoals Solo (een versie van Uno) en Take five. Groovy draait de hele avond je favoriete muziek. \nZit je nog niet op onze Discord? Check dan de activiteitenmail of vraag het bestuur naar de Discord uitnodigingslink
URL:https://jongerenverenigingwesp.nl/activiteit/online-soos/
LOCATION:Discord
CATEGORIES:Gesloten
ATTACH;FMTTYPE=image/png:https://jongerenverenigingwesp.nl/wp-content/uploads/2020/07/3E9B0C45-F4FC-4B27-9A9F-4C296B4AB5F2.png
END:VEVENT
END:VCALENDAR