BEGIN:VCALENDAR
VERSION:2.0
PRODID:-//WESP - ECPv6.15.20//NONSGML v1.0//EN
CALSCALE:GREGORIAN
METHOD:PUBLISH
X-WR-CALNAME:WESP
X-ORIGINAL-URL:https://jongerenverenigingwesp.nl
X-WR-CALDESC:Evenementen voor WESP
REFRESH-INTERVAL;VALUE=DURATION:PT1H
X-Robots-Tag:noindex
X-PUBLISHED-TTL:PT1H
BEGIN:VTIMEZONE
TZID:Europe/Amsterdam
BEGIN:DAYLIGHT
TZOFFSETFROM:+0100
TZOFFSETTO:+0200
TZNAME:CEST
DTSTART:20140330T010000
END:DAYLIGHT
BEGIN:STANDARD
TZOFFSETFROM:+0200
TZOFFSETTO:+0100
TZNAME:CET
DTSTART:20141026T010000
END:STANDARD
BEGIN:DAYLIGHT
TZOFFSETFROM:+0100
TZOFFSETTO:+0200
TZNAME:CEST
DTSTART:20150329T010000
END:DAYLIGHT
BEGIN:STANDARD
TZOFFSETFROM:+0200
TZOFFSETTO:+0100
TZNAME:CET
DTSTART:20151025T010000
END:STANDARD
BEGIN:DAYLIGHT
TZOFFSETFROM:+0100
TZOFFSETTO:+0200
TZNAME:CEST
DTSTART:20160327T010000
END:DAYLIGHT
BEGIN:STANDARD
TZOFFSETFROM:+0200
TZOFFSETTO:+0100
TZNAME:CET
DTSTART:20161030T010000
END:STANDARD
BEGIN:DAYLIGHT
TZOFFSETFROM:+0100
TZOFFSETTO:+0200
TZNAME:CEST
DTSTART:20170326T010000
END:DAYLIGHT
BEGIN:STANDARD
TZOFFSETFROM:+0200
TZOFFSETTO:+0100
TZNAME:CET
DTSTART:20171029T010000
END:STANDARD
END:VTIMEZONE
BEGIN:VEVENT
DTSTART;TZID=Europe/Amsterdam:20160505T173000
DTEND;TZID=Europe/Amsterdam:20160506T110000
DTSTAMP:20260422T104903
CREATED:20160121T010618Z
LAST-MODIFIED:20160418T142254Z
UID:1044-1462469400-1462532400@jongerenverenigingwesp.nl
SUMMARY:Bevrijdingsdag & Doorhaalnacht
DESCRIPTION:
URL:https://jongerenverenigingwesp.nl/activiteit/exclusieve-activiteit/
LOCATION:R.K. Jongerenvereniging WESP\, Nicolaasplein 2\, Zoetermeer\, 2712AV\, Nederland
CATEGORIES:Activiteit,Gesloten Introducé,Mystery Activity
ATTACH;FMTTYPE=image/png:https://jongerenverenigingwesp.nl/wp-content/uploads/2016/04/Mystery-Activity-Banner.png
END:VEVENT
BEGIN:VEVENT
DTSTART;TZID=Europe/Amsterdam:20160326T220000
DTEND;TZID=Europe/Amsterdam:20160327T000000
DTSTAMP:20260422T104903
CREATED:20160121T005530Z
LAST-MODIFIED:20160418T141953Z
UID:1037-1459029600-1459036800@jongerenverenigingwesp.nl
SUMMARY:PaasSOOS
DESCRIPTION:
URL:https://jongerenverenigingwesp.nl/activiteit/paassoos/
LOCATION:R.K. Jongerenvereniging WESP\, Nicolaasplein 2\, Zoetermeer\, 2712AV\, Nederland
CATEGORIES:Activiteit,Halfopen,SOOS
ATTACH;FMTTYPE=image/png:https://jongerenverenigingwesp.nl/wp-content/uploads/2016/04/JongerenSOOS-Banner.png
END:VEVENT
BEGIN:VEVENT
DTSTART;TZID=Europe/Amsterdam:20160325T183000
DTEND;TZID=Europe/Amsterdam:20160326T003000
DTSTAMP:20260422T104903
CREATED:20160121T005358Z
LAST-MODIFIED:20160418T142043Z
UID:1036-1458930600-1458952200@jongerenverenigingwesp.nl
SUMMARY:Repetitie Praise
DESCRIPTION:
URL:https://jongerenverenigingwesp.nl/activiteit/repetitie-praise-2/
LOCATION:R.K. Jongerenvereniging WESP\, Nicolaasplein 2\, Zoetermeer\, 2712AV\, Nederland
CATEGORIES:Activiteit,Gesloten Introducé,Repetitie,SOOS
ATTACH;FMTTYPE=image/jpeg:https://jongerenverenigingwesp.nl/wp-content/uploads/2016/01/JKPraise.jpg
ORGANIZER;CN="R.K. Jongerenkoor Praise":MAILTO:info@jkpraise.nl
END:VEVENT
BEGIN:VEVENT
DTSTART;TZID=Europe/Amsterdam:20160212T183000
DTEND;TZID=Europe/Amsterdam:20160213T000000
DTSTAMP:20260422T104903
CREATED:20160121T004000Z
LAST-MODIFIED:20160418T141120Z
UID:1026-1455301800-1455321600@jongerenverenigingwesp.nl
SUMMARY:Praise Repetitie
DESCRIPTION:
URL:https://jongerenverenigingwesp.nl/activiteit/repetitie-praise/
LOCATION:R.K. Jongerenvereniging WESP\, Nicolaasplein 2\, Zoetermeer\, 2712AV\, Nederland
CATEGORIES:Activiteit,Gesloten Introducé,Repetitie,SOOS
ATTACH;FMTTYPE=image/jpeg:https://jongerenverenigingwesp.nl/wp-content/uploads/2016/01/JKPraise.jpg
ORGANIZER;CN="R.K. Jongerenkoor Praise":MAILTO:info@jkpraise.nl
END:VEVENT
BEGIN:VEVENT
DTSTART;TZID=Europe/Amsterdam:20151224T193000
DTEND;TZID=Europe/Amsterdam:20151225T000000
DTSTAMP:20260422T104903
CREATED:20150906T204109Z
LAST-MODIFIED:20160418T140024Z
UID:940-1450985400-1451001600@jongerenverenigingwesp.nl
SUMMARY:JongerenSOOS
DESCRIPTION:JongerenSOOS vanaf 20:30 met iedere maand een ander speciaal bier. Zoals altijd: raad als eerste het bier en maak kans op één gratis drankje.
URL:https://jongerenverenigingwesp.nl/activiteit/jongerensoos-4/
CATEGORIES:Activiteit,Halfopen,SOOS
ATTACH;FMTTYPE=image/png:https://jongerenverenigingwesp.nl/wp-content/uploads/2016/04/JongerenSOOS-Banner.png
END:VEVENT
BEGIN:VEVENT
DTSTART;TZID=Europe/Amsterdam:20151022T193000
DTEND;TZID=Europe/Amsterdam:20151023T000000
DTSTAMP:20260422T104903
CREATED:20150906T203804Z
LAST-MODIFIED:20160418T134504Z
UID:938-1445542200-1445558400@jongerenverenigingwesp.nl
SUMMARY:JongerenSOOS
DESCRIPTION:JongerenSOOS vanaf 20:30 met iedere maand een ander speciaal bier. Zoals altijd: raad als eerste het bier en maak kans op één gratis drankje.
URL:https://jongerenverenigingwesp.nl/activiteit/jongerensoos-2/
CATEGORIES:Activiteit,Halfopen,SOOS
ATTACH;FMTTYPE=image/png:https://jongerenverenigingwesp.nl/wp-content/uploads/2016/04/JongerenSOOS-Banner.png
END:VEVENT
BEGIN:VEVENT
DTSTART;TZID=Europe/Amsterdam:20150924T193000
DTEND;TZID=Europe/Amsterdam:20150925T000000
DTSTAMP:20260422T104903
CREATED:20150905T164549Z
LAST-MODIFIED:20160418T133632Z
UID:937-1443123000-1443139200@jongerenverenigingwesp.nl
SUMMARY:JongerenSOOS
DESCRIPTION:JongerenSOOS vanaf 20:30 met iedere maand een ander speciaal bier. Zoals altijd: raad als eerste het bier en maak kans op één gratis drankje.
URL:https://jongerenverenigingwesp.nl/activiteit/jongerensoos/
CATEGORIES:Activiteit,Halfopen,SOOS
ATTACH;FMTTYPE=image/png:https://jongerenverenigingwesp.nl/wp-content/uploads/2016/04/JongerenSOOS-Banner.png
END:VEVENT
BEGIN:VEVENT
DTSTART;TZID=Europe/Amsterdam:20150709T193000
DTEND;TZID=Europe/Amsterdam:20150710T000000
DTSTAMP:20260422T104903
CREATED:20150104T023308Z
LAST-MODIFIED:20160418T133045Z
UID:412-1436470200-1436486400@jongerenverenigingwesp.nl
SUMMARY:JongerenSOOS: OP = OP
DESCRIPTION:Naar de JongerenSOOS ga je om samen met je vrienden wat te drinken\, te genieten en bij te komen voor het weekend begint. Donderdagavond is dé avond om te trekken naar de kroeg en met onze SOOS hoef je niet ver meer te zoeken. De deur staat open\, het bier (en de cola voor de minderjarigen) staat klaar. Veel plezier! \nDe deuren zullen voor de laatste keer openen voor de zomerstop van 2015 dus alles moet op! \n 
URL:https://jongerenverenigingwesp.nl/activiteit/soos-3/
CATEGORIES:Activiteit,Halfopen,SOOS
ATTACH;FMTTYPE=image/png:https://jongerenverenigingwesp.nl/wp-content/uploads/2016/04/JongerenSOOS-Banner.png
END:VEVENT
BEGIN:VEVENT
DTSTART;TZID=Europe/Amsterdam:20150625T193000
DTEND;TZID=Europe/Amsterdam:20150626T000000
DTSTAMP:20260422T104903
CREATED:20150104T002451Z
LAST-MODIFIED:20160418T132843Z
UID:409-1435260600-1435276800@jongerenverenigingwesp.nl
SUMMARY:JongerenSOOS
DESCRIPTION:Naar de JongerenSOOS ga je om samen met je vrienden wat te drinken\, te genieten en bij te komen voor het weekend begint. Donderdagavond is dé avond om te trekken naar de kroeg en met onze SOOS hoef je niet ver meer te zoeken. De deur staat open\, het bier (en de cola voor de minderjarigen) staat klaar. Veel plezier!
URL:https://jongerenverenigingwesp.nl/activiteit/soos-2/
CATEGORIES:Activiteit,Halfopen,SOOS
ATTACH;FMTTYPE=image/png:https://jongerenverenigingwesp.nl/wp-content/uploads/2016/04/JongerenSOOS-Banner.png
END:VEVENT
BEGIN:VEVENT
DTSTART;TZID=Europe/Amsterdam:20150605T193000
DTEND;TZID=Europe/Amsterdam:20150606T000000
DTSTAMP:20260422T104903
CREATED:20150508T135304Z
LAST-MODIFIED:20160418T124534Z
UID:833-1433532600-1433548800@jongerenverenigingwesp.nl
SUMMARY:Openingsfeest
DESCRIPTION:5 juni zullen wij de nieuwe ruimte openen met een super leuk feest\, band\, bier en reisleider zijn al geregeld.
URL:https://jongerenverenigingwesp.nl/activiteit/openingsfeest/
CATEGORIES:Activiteit,Lustrum,Open
ATTACH;FMTTYPE=image/png:https://jongerenverenigingwesp.nl/wp-content/uploads/2015/05/Openingsfeest.png
END:VEVENT
BEGIN:VEVENT
DTSTART;TZID=Europe/Amsterdam:20150521T190000
DTEND;TZID=Europe/Amsterdam:20150521T190000
DTSTAMP:20260422T104904
CREATED:20150103T224024Z
LAST-MODIFIED:20160418T124350Z
UID:400-1432234800-1432234800@jongerenverenigingwesp.nl
SUMMARY:JongerenSOOS
DESCRIPTION:Naar onze jongerenSOOS ga je om samen met je vrienden wat te drinken\, te genieten en bij te komen voor het weekend begint. Donderdagavond is dé avond om te trekken naar de kroeg en met Old Wasp hoef je niet ver meer te zoeken. De deur staat open\, het bier (en de cola voor de minderjarigen) staat klaar. Veel plezier!
URL:https://jongerenverenigingwesp.nl/activiteit/soos/
CATEGORIES:Activiteit,Halfopen,SOOS
ATTACH;FMTTYPE=image/png:https://jongerenverenigingwesp.nl/wp-content/uploads/2016/04/JongerenSOOS-Banner.png
END:VEVENT
BEGIN:VEVENT
DTSTART;TZID=Europe/Amsterdam:20150423T190000
DTEND;TZID=Europe/Amsterdam:20150423T190000
DTSTAMP:20260422T104904
CREATED:20150103T022703Z
LAST-MODIFIED:20160418T123804Z
UID:388-1429815600-1429815600@jongerenverenigingwesp.nl
SUMMARY:JongerenSOOS
DESCRIPTION:Naar de JongerenSOOS ga je om samen met je vrienden wat te drinken\, te genieten en bij te komen voor het weekend begint. Donderdagavond is dé avond om te trekken naar de kroeg en met Old Wasp hoef je niet ver meer te zoeken. De deur staat open\, het bier (en de cola voor de minderjarigen) staat klaar. Veel plezier!
URL:https://jongerenverenigingwesp.nl/activiteit/old-wasp/
CATEGORIES:Activiteit,Halfopen,SOOS
ATTACH;FMTTYPE=image/png:https://jongerenverenigingwesp.nl/wp-content/uploads/2016/04/JongerenSOOS-Banner.png
END:VEVENT
END:VCALENDAR