BEGIN:VCALENDAR
VERSION:2.0
PRODID:-//WESP - ECPv6.15.20//NONSGML v1.0//EN
CALSCALE:GREGORIAN
METHOD:PUBLISH
X-ORIGINAL-URL:https://jongerenverenigingwesp.nl
X-WR-CALDESC:Evenementen voor WESP
REFRESH-INTERVAL;VALUE=DURATION:PT1H
X-Robots-Tag:noindex
X-PUBLISHED-TTL:PT1H
BEGIN:VTIMEZONE
TZID:Europe/Amsterdam
BEGIN:DAYLIGHT
TZOFFSETFROM:+0100
TZOFFSETTO:+0200
TZNAME:CEST
DTSTART:20140330T010000
END:DAYLIGHT
BEGIN:STANDARD
TZOFFSETFROM:+0200
TZOFFSETTO:+0100
TZNAME:CET
DTSTART:20141026T010000
END:STANDARD
BEGIN:DAYLIGHT
TZOFFSETFROM:+0100
TZOFFSETTO:+0200
TZNAME:CEST
DTSTART:20150329T010000
END:DAYLIGHT
BEGIN:STANDARD
TZOFFSETFROM:+0200
TZOFFSETTO:+0100
TZNAME:CET
DTSTART:20151025T010000
END:STANDARD
BEGIN:DAYLIGHT
TZOFFSETFROM:+0100
TZOFFSETTO:+0200
TZNAME:CEST
DTSTART:20160327T010000
END:DAYLIGHT
BEGIN:STANDARD
TZOFFSETFROM:+0200
TZOFFSETTO:+0100
TZNAME:CET
DTSTART:20161030T010000
END:STANDARD
END:VTIMEZONE
BEGIN:VEVENT
DTSTART;TZID=Europe/Amsterdam:20150709T193000
DTEND;TZID=Europe/Amsterdam:20150710T000000
DTSTAMP:20260424T033045
CREATED:20150104T023308Z
LAST-MODIFIED:20160418T133045Z
UID:412-1436470200-1436486400@jongerenverenigingwesp.nl
SUMMARY:JongerenSOOS: OP = OP
DESCRIPTION:Naar de JongerenSOOS ga je om samen met je vrienden wat te drinken\, te genieten en bij te komen voor het weekend begint. Donderdagavond is dé avond om te trekken naar de kroeg en met onze SOOS hoef je niet ver meer te zoeken. De deur staat open\, het bier (en de cola voor de minderjarigen) staat klaar. Veel plezier! \nDe deuren zullen voor de laatste keer openen voor de zomerstop van 2015 dus alles moet op! \n 
URL:https://jongerenverenigingwesp.nl/activiteit/soos-3/
CATEGORIES:Activiteit,Halfopen,SOOS
ATTACH;FMTTYPE=image/png:https://jongerenverenigingwesp.nl/wp-content/uploads/2016/04/JongerenSOOS-Banner.png
END:VEVENT
BEGIN:VEVENT
DTSTART;TZID=Europe/Amsterdam:20150704T180000
DTEND;TZID=Europe/Amsterdam:20150705T000000
DTSTAMP:20260424T033045
CREATED:20150104T022852Z
LAST-MODIFIED:20160418T132951Z
UID:411-1436032800-1436054400@jongerenverenigingwesp.nl
SUMMARY:Grand LAN-party
DESCRIPTION:Dé LAN-party waar gevochten zal worden voor de titel: GAMER OF THE YEAR
URL:https://jongerenverenigingwesp.nl/activiteit/la-grande-lan-party/
CATEGORIES:Activiteit,Halfopen,Mystery Activity
ATTACH;FMTTYPE=image/jpeg:https://jongerenverenigingwesp.nl/wp-content/uploads/2016/04/WP_20150222_001.jpg
END:VEVENT
BEGIN:VEVENT
DTSTART;TZID=Europe/Amsterdam:20150625T193000
DTEND;TZID=Europe/Amsterdam:20150626T000000
DTSTAMP:20260424T033045
CREATED:20150104T002451Z
LAST-MODIFIED:20160418T132843Z
UID:409-1435260600-1435276800@jongerenverenigingwesp.nl
SUMMARY:JongerenSOOS
DESCRIPTION:Naar de JongerenSOOS ga je om samen met je vrienden wat te drinken\, te genieten en bij te komen voor het weekend begint. Donderdagavond is dé avond om te trekken naar de kroeg en met onze SOOS hoef je niet ver meer te zoeken. De deur staat open\, het bier (en de cola voor de minderjarigen) staat klaar. Veel plezier!
URL:https://jongerenverenigingwesp.nl/activiteit/soos-2/
CATEGORIES:Activiteit,Halfopen,SOOS
ATTACH;FMTTYPE=image/png:https://jongerenverenigingwesp.nl/wp-content/uploads/2016/04/JongerenSOOS-Banner.png
END:VEVENT
BEGIN:VEVENT
DTSTART;TZID=Europe/Amsterdam:20150620T193000
DTEND;TZID=Europe/Amsterdam:20150621T000000
DTSTAMP:20260424T033045
CREATED:20150103T230729Z
LAST-MODIFIED:20160410T224006Z
UID:407-1434828600-1434844800@jongerenverenigingwesp.nl
SUMMARY:Jongerenfeest Summer on Olympus
DESCRIPTION:20 juni hebben wij weer een jongerenfeest! Met als thema Olympus\, dus dat betekent Grieks 🙂 Mensen die in toga’s komen zullen niet tegen gehouden worden 😀 \nGRATIS voor leden
URL:https://jongerenverenigingwesp.nl/activiteit/jeugd-en-jongerenfeest/
CATEGORIES:Activiteit,Halfopen,Mystery Activity
ATTACH;FMTTYPE=image/png:https://jongerenverenigingwesp.nl/wp-content/uploads/2015/01/Flyer-Jeugd-en-jongerenfeest2.png
END:VEVENT
BEGIN:VEVENT
DTSTART;TZID=Europe/Amsterdam:20150613T070000
DTEND;TZID=Europe/Amsterdam:20150613T160000
DTSTAMP:20260424T033045
CREATED:20150103T225954Z
LAST-MODIFIED:20160418T132716Z
UID:405-1434178800-1434211200@jongerenverenigingwesp.nl
SUMMARY:Oud Papier Actie
DESCRIPTION:Elke tweede zaterdag van de maand loopt WESP de Oud Papier Actie om de jongerenvereniging in stand te houden. Ook meelopen? Geef je dan snel op. \n\n← Terug Bedankt voor je reactie. ✨\n\n\n					\n						\n							\n							\n						\n						\n						\n						\n						\n							\n								\n									\n										\n										\n									\n									\n										\n										\n									\n								\n							\n						\n						\n							\n								\n									\n									\n										\n									\n									\n									\n								\n							\n						\n					\n				\n\n\n\nNaam(vereist)\n\n \n			\n				\n					\n						\n						\n						\n					\n				\n				\n			 \n	\n\n\nE-mail(vereist)\n\n \n			\n				\n					\n						\n						\n						\n					\n				\n				\n			 \n	\n\n\nWelke OPA doe je mee?(vereist)\n\n \n			\n				\n					\n						\n						\n						\n					\n				\n				\n			 \n	\n\n\n \nHoud me op de hoogte\n\n\n			\n				\n					\n						\n						\n						\n					\n				\n				\n				\n	\n\n				\n					\n				\n						Verzenden
URL:https://jongerenverenigingwesp.nl/activiteit/opa-5/
LOCATION:R.K. Jongerenvereniging WESP\, Nicolaasplein 2\, Zoetermeer\, 2712AV\, Nederland
CATEGORIES:Activiteit,Open,Oud Papier Actie
ATTACH;FMTTYPE=image/png:https://jongerenverenigingwesp.nl/wp-content/uploads/2016/04/OudPapierActie-Banner-e1613771233636.png
END:VEVENT
BEGIN:VEVENT
DTSTART;TZID=Europe/Amsterdam:20150606T200000
DTEND;TZID=Europe/Amsterdam:20150607T000000
DTSTAMP:20260424T033045
CREATED:20150103T225600Z
LAST-MODIFIED:20160418T130114Z
UID:403-1433620800-1433635200@jongerenverenigingwesp.nl
SUMMARY:Zoetermeer Blues
DESCRIPTION:Ook dit jaar zullen de Groovetakers weer in WESP optreden tijdens de Zoetermeer Blues. \nThe Groovetakers \nDe band The Groovetakers is eind 2013 opgericht door vier veteranen uit het bluescircuit. Zij staan garant voor onvervalst stevige rhythm & blues\, rock ’n roll en meeslepende slow blues. Deze zaterdagavond spelen zij vanaf 21.00 uur met veel overtuiging en gevoel in Jongerencentrum WESP. \nHet hele weekend staat bij WESP in teken van Zoetermeer Blues\, kom en geniet mee.
URL:https://jongerenverenigingwesp.nl/activiteit/zoetermeer-blues/
CATEGORIES:Activiteit,Blues Festival,Open
ATTACH;FMTTYPE=image/png:https://jongerenverenigingwesp.nl/wp-content/uploads/2015/01/Blues-2015-Poster2.png
END:VEVENT
BEGIN:VEVENT
DTSTART;TZID=Europe/Amsterdam:20150605T193000
DTEND;TZID=Europe/Amsterdam:20150606T000000
DTSTAMP:20260424T033045
CREATED:20150508T135304Z
LAST-MODIFIED:20160418T124534Z
UID:833-1433532600-1433548800@jongerenverenigingwesp.nl
SUMMARY:Openingsfeest
DESCRIPTION:5 juni zullen wij de nieuwe ruimte openen met een super leuk feest\, band\, bier en reisleider zijn al geregeld.
URL:https://jongerenverenigingwesp.nl/activiteit/openingsfeest/
CATEGORIES:Activiteit,Lustrum,Open
ATTACH;FMTTYPE=image/png:https://jongerenverenigingwesp.nl/wp-content/uploads/2015/05/Openingsfeest.png
END:VEVENT
BEGIN:VEVENT
DTSTART;TZID=Europe/Amsterdam:20150530T183000
DTEND;TZID=Europe/Amsterdam:20150530T230000
DTSTAMP:20260424T033045
CREATED:20150508T134557Z
LAST-MODIFIED:20160418T124414Z
UID:830-1433010600-1433026800@jongerenverenigingwesp.nl
SUMMARY:Filmavond
DESCRIPTION:Iedere eerste zaterdag van de maand filmavond\, ditmaal een uitzondering op de regel vanwege de Blues.
URL:https://jongerenverenigingwesp.nl/activiteit/filmavond-4/
CATEGORIES:Activiteit,Filmavond,Halfopen
ATTACH;FMTTYPE=image/png:https://jongerenverenigingwesp.nl/wp-content/uploads/2016/04/Filmavond-Banner.png
END:VEVENT
BEGIN:VEVENT
DTSTART;TZID=Europe/Amsterdam:20150521T190000
DTEND;TZID=Europe/Amsterdam:20150521T190000
DTSTAMP:20260424T033045
CREATED:20150103T224024Z
LAST-MODIFIED:20160418T124350Z
UID:400-1432234800-1432234800@jongerenverenigingwesp.nl
SUMMARY:JongerenSOOS
DESCRIPTION:Naar onze jongerenSOOS ga je om samen met je vrienden wat te drinken\, te genieten en bij te komen voor het weekend begint. Donderdagavond is dé avond om te trekken naar de kroeg en met Old Wasp hoef je niet ver meer te zoeken. De deur staat open\, het bier (en de cola voor de minderjarigen) staat klaar. Veel plezier!
URL:https://jongerenverenigingwesp.nl/activiteit/soos/
CATEGORIES:Activiteit,Halfopen,SOOS
ATTACH;FMTTYPE=image/png:https://jongerenverenigingwesp.nl/wp-content/uploads/2016/04/JongerenSOOS-Banner.png
END:VEVENT
BEGIN:VEVENT
DTSTART;TZID=Europe/Amsterdam:20150516T123000
DTEND;TZID=Europe/Amsterdam:20150516T150000
DTSTAMP:20260424T033045
CREATED:20150423T232952Z
LAST-MODIFIED:20160418T124309Z
UID:749-1431779400-1431788400@jongerenverenigingwesp.nl
SUMMARY:Creatieve activiteit
DESCRIPTION:Onze tweede creatieve activiteit dit jaar weer onder leiding van Jolidee Creatieve Coaching. Na het succes van het verf en door het gooien van eieren met verf organiseren wij een tweede creatieve activiteit. \n  \nKosten worden later bekend gemaakt
URL:https://jongerenverenigingwesp.nl/activiteit/creatieve-activiteit/
CATEGORIES:Activiteit,Halfopen,Mystery Activity
ATTACH;FMTTYPE=image/png:https://jongerenverenigingwesp.nl/wp-content/uploads/2015/05/Creatieve-activiteit-16-mei1.png
END:VEVENT
BEGIN:VEVENT
DTSTART;TZID=Europe/Amsterdam:20150509T183000
DTEND;TZID=Europe/Amsterdam:20150510T000000
DTSTAMP:20260424T033045
CREATED:20150103T223637Z
LAST-MODIFIED:20160418T124234Z
UID:399-1431196200-1431216000@jongerenverenigingwesp.nl
SUMMARY:Spelletjesavond
DESCRIPTION:Monopoly\, Weerwolven\, Magic: The Gathering\, Fluxx\, Munchkin\, Machiavelli\, Carcassone\, Fische Fluppen Frikadellen\, Risk en verder alles dat je zou willen spelen. Dat allemaal is er aanwezig bij spelletjesavond\, speel je ook mee. \n  \nKoop alle huizen\, verdrijf de weerwolven uit het dorp\, vecht met monsters\, verzin regels\, steek je vrienden in de rug\, bouw je eigen stad\, verzamel punten\, koop een prinses vrij\, neem de wereld over met de grootste glimlach. WESP: daar gebeurt het allemaal.
URL:https://jongerenverenigingwesp.nl/activiteit/spelletjesavond-2/
CATEGORIES:Activiteit,Halfopen,Spelletjesavond
ATTACH;FMTTYPE=image/png:https://jongerenverenigingwesp.nl/wp-content/uploads/2016/04/Spelletjesavond-Banner.png
END:VEVENT
BEGIN:VEVENT
DTSTART;TZID=Europe/Amsterdam:20150509T163000
DTEND;TZID=Europe/Amsterdam:20150509T180000
DTSTAMP:20260424T033045
CREATED:20150423T231235Z
LAST-MODIFIED:20160418T124145Z
UID:748-1431189000-1431194400@jongerenverenigingwesp.nl
SUMMARY:WESPdiner (peuzel)
DESCRIPTION:Tussen de Oud Papier Actie en de spelletjesavond organiseren we een peuzel om de maag goed te vullen na een harde dag werken en gewoon omdat het gezellig is.
URL:https://jongerenverenigingwesp.nl/activiteit/wespdiner-peuzel/
CATEGORIES:Activiteit,Halfopen,WESPdiner
ATTACH;FMTTYPE=image/png:https://jongerenverenigingwesp.nl/wp-content/uploads/2016/04/WESPdiner-Banner.png
END:VEVENT
BEGIN:VEVENT
DTSTART;TZID=Europe/Amsterdam:20150509T070000
DTEND;TZID=Europe/Amsterdam:20150509T160000
DTSTAMP:20260424T033045
CREATED:20150103T030159Z
LAST-MODIFIED:20160418T124112Z
UID:393-1431154800-1431187200@jongerenverenigingwesp.nl
SUMMARY:Oud Papier Actie
DESCRIPTION:Elke tweede zaterdag van de maand loopt WESP de Oud Papier Actie om de jongerenvereniging in stand te houden. Ook meelopen? Geef je dan snel op bij Matthé.
URL:https://jongerenverenigingwesp.nl/activiteit/opa-4/
CATEGORIES:Activiteit,Open,Oud Papier Actie
ATTACH;FMTTYPE=image/png:https://jongerenverenigingwesp.nl/wp-content/uploads/2016/04/OudPapierActie-Banner-e1613771233636.png
END:VEVENT
BEGIN:VEVENT
DTSTART;TZID=Europe/Amsterdam:20150505T120000
DTEND;TZID=Europe/Amsterdam:20150506T000000
DTSTAMP:20260424T033045
CREATED:20150103T030000Z
LAST-MODIFIED:20160418T124041Z
UID:392-1430827200-1430870400@jongerenverenigingwesp.nl
SUMMARY:Bevrijdingsfestival
DESCRIPTION:Tijdens het bevrijdingsfestival doet WESP natuurlijk ook mee\, want vrijheid dat mag je vieren. We zullen vanaf het Nicolaasplein over de Dobber naar het bevrijdingsfestival kijken. Dat betekent genieten van live muziek en een knallende afsluiting met vuurwerk.
URL:https://jongerenverenigingwesp.nl/activiteit/bevrijdingsfestival/
CATEGORIES:Activiteit
ATTACH;FMTTYPE=image/png:https://jongerenverenigingwesp.nl/wp-content/uploads/2015/01/Bevrijdingsfestival.png
END:VEVENT
BEGIN:VEVENT
DTSTART;TZID=Europe/Amsterdam:20150502T183000
DTEND;TZID=Europe/Amsterdam:20150503T000000
DTSTAMP:20260424T033045
CREATED:20150423T193540Z
LAST-MODIFIED:20160418T123902Z
UID:743-1430591400-1430611200@jongerenverenigingwesp.nl
SUMMARY:Filmavond
DESCRIPTION:2 mei vanaf 19:30 weer een filmavond. Met deze keer als thema Wereldoorlog II\, als aansluiting op 4 en 5 mei. 4 mei waarop we de doden herdenken en 5 mei waarop we de vrijheid vieren.
URL:https://jongerenverenigingwesp.nl/activiteit/filmavond-3/
CATEGORIES:Activiteit,Filmavond,Halfopen
ATTACH;FMTTYPE=image/png:https://jongerenverenigingwesp.nl/wp-content/uploads/2016/04/Filmavond-Banner.png
END:VEVENT
BEGIN:VEVENT
DTSTART;TZID=Europe/Amsterdam:20150423T190000
DTEND;TZID=Europe/Amsterdam:20150423T190000
DTSTAMP:20260424T033045
CREATED:20150103T022703Z
LAST-MODIFIED:20160418T123804Z
UID:388-1429815600-1429815600@jongerenverenigingwesp.nl
SUMMARY:JongerenSOOS
DESCRIPTION:Naar de JongerenSOOS ga je om samen met je vrienden wat te drinken\, te genieten en bij te komen voor het weekend begint. Donderdagavond is dé avond om te trekken naar de kroeg en met Old Wasp hoef je niet ver meer te zoeken. De deur staat open\, het bier (en de cola voor de minderjarigen) staat klaar. Veel plezier!
URL:https://jongerenverenigingwesp.nl/activiteit/old-wasp/
CATEGORIES:Activiteit,Halfopen,SOOS
ATTACH;FMTTYPE=image/png:https://jongerenverenigingwesp.nl/wp-content/uploads/2016/04/JongerenSOOS-Banner.png
END:VEVENT
BEGIN:VEVENT
DTSTART;VALUE=DATE:20150419
DTEND;VALUE=DATE:20150421
DTSTAMP:20260424T033045
CREATED:20150102T201037Z
LAST-MODIFIED:20160418T123430Z
UID:385-1429416000-1429502399@jongerenverenigingwesp.nl
SUMMARY:Sportdag
DESCRIPTION:Elk jaar organiseert WESP een sportdag\, dit jaar is niet veel anders. Lekker sportief en zwetend plezier beleven dat doe je alleen vandaag.
URL:https://jongerenverenigingwesp.nl/activiteit/sportdag/
LOCATION:De Veur\, Prismalaan 40\, Zoetermeer\, Zuid-Holland\, 2718CX\, Nederland
CATEGORIES:Activiteit,Halfopen,Mystery Activity
ATTACH;FMTTYPE=image/png:https://jongerenverenigingwesp.nl/wp-content/uploads/2016/04/Mystery-Activity-Banner.png
END:VEVENT
BEGIN:VEVENT
DTSTART;TZID=Europe/Amsterdam:20150412T083000
DTEND;TZID=Europe/Amsterdam:20150412T100000
DTSTAMP:20260424T033045
CREATED:20150323T170743Z
LAST-MODIFIED:20160418T123323Z
UID:727-1428827400-1428832800@jongerenverenigingwesp.nl
SUMMARY:Volleybaltraining
DESCRIPTION:Voor de sportdag van 19 april zullen wij een paar keer trainen. Dit wordt medemogelijk gemaakt door ZoVoC en Stichting Noord-Westerhal. Trainingen worden verzorgd door Marcel Verbeek\, trainer van competitie teams. Training zal in de Noord-Westerhal plaats vinden\, Buytenparklaan 6\, in de buurt van Snowworld. Er is hier een bar. \nTrainingsdata: \n29 maart – 9:30 tot 11:00 \n4 april – 15:30 tot 17:00 \n12 april – 9:30 tot 11:00 \nNeem gymschoenen mee!
URL:https://jongerenverenigingwesp.nl/activiteit/volleybaltraining-3/
LOCATION:Noord-Westerhal\, Buytenparklaan 6\, Zoetermeer\, Zuid-Holland\, 2717 AX\, Nederland
CATEGORIES:Activiteit,Halfopen,Mystery Activity
ATTACH;FMTTYPE=image/jpeg:https://jongerenverenigingwesp.nl/wp-content/uploads/2015/03/Volleybal.jpg
END:VEVENT
BEGIN:VEVENT
DTSTART;TZID=Europe/Amsterdam:20150411T200000
DTEND;TZID=Europe/Amsterdam:20150411T200000
DTSTAMP:20260424T033045
CREATED:20150102T185441Z
LAST-MODIFIED:20160418T123311Z
UID:381-1428782400-1428782400@jongerenverenigingwesp.nl
SUMMARY:Filmavond
DESCRIPTION:Na de OPA op 14 februari tussen 9:00 en 17:00 is er weer een fantastische filmavond! Vanaf 21:00 barsten we los.
URL:https://jongerenverenigingwesp.nl/activiteit/fiilmavond/
CATEGORIES:Activiteit,Filmavond,Halfopen
ATTACH;FMTTYPE=image/png:https://jongerenverenigingwesp.nl/wp-content/uploads/2016/04/Filmavond-Banner.png
END:VEVENT
BEGIN:VEVENT
DTSTART;TZID=Europe/Amsterdam:20150411T163000
DTEND;TZID=Europe/Amsterdam:20150411T180000
DTSTAMP:20260424T033045
CREATED:20150323T171153Z
LAST-MODIFIED:20160418T123245Z
UID:728-1428769800-1428775200@jongerenverenigingwesp.nl
SUMMARY:Peuzel (WESPdiner)
DESCRIPTION:Tussen de Oud Papier Actie en de spelletjesavond organiseren we ook een peuzel om de maag goed te vullen na een harde dag werken.
URL:https://jongerenverenigingwesp.nl/activiteit/peuzel/
CATEGORIES:Activiteit,Halfopen,WESPdiner
ATTACH;FMTTYPE=image/png:https://jongerenverenigingwesp.nl/wp-content/uploads/2016/04/WESPdiner-Banner.png
END:VEVENT
BEGIN:VEVENT
DTSTART;TZID=Europe/Amsterdam:20150411T080000
DTEND;TZID=Europe/Amsterdam:20150411T160000
DTSTAMP:20260424T033045
CREATED:20150102T200623Z
LAST-MODIFIED:20160418T123137Z
UID:384-1428739200-1428768000@jongerenverenigingwesp.nl
SUMMARY:Oud Papier Actie
DESCRIPTION:Elke tweede zaterdag van de maand loopt WESP de Oud Papier Actie om de jongerenvereniging in stand te houden. Ook meelopen? Geef je dan snel op bij Matthé.
URL:https://jongerenverenigingwesp.nl/activiteit/opa-3/
CATEGORIES:Activiteit,Open,Oud Papier Actie
ATTACH;FMTTYPE=image/png:https://jongerenverenigingwesp.nl/wp-content/uploads/2016/04/OudPapierActie-Banner-e1613771233636.png
END:VEVENT
BEGIN:VEVENT
DTSTART;TZID=Europe/Amsterdam:20150404T143000
DTEND;TZID=Europe/Amsterdam:20150404T160000
DTSTAMP:20260424T033045
CREATED:20150323T170519Z
LAST-MODIFIED:20160418T123028Z
UID:725-1428157800-1428163200@jongerenverenigingwesp.nl
SUMMARY:Volleybaltraining (bij ZoVoC)
DESCRIPTION:Voor de sportdag van 19 april zullen wij een paar keer trainen. Dit wordt medemogelijk gemaakt door ZoVoC en Stichting Noord-Westerhal. Trainingen worden verzorgd door Marcel Verbeek\, trainer van competitie teams. Training zal in de Noord-Westerhal plaats vinden\, Buytenparklaan 6\, in de buurt van Snowworld. Er is hier een bar. \nTrainingsdata: \n29 maart – 9:30 tot 11:00 \n4 april – 15:30 tot 17:00 \n12 april – 9:30 tot 11:00 \nNeem gymschoenen mee!
URL:https://jongerenverenigingwesp.nl/activiteit/volleybaltraining-2/
LOCATION:Noord-Westerhal\, Buytenparklaan 6\, Zoetermeer\, Zuid-Holland\, 2717 AX\, Nederland
CATEGORIES:Activiteit,Halfopen,Mystery Activity
ATTACH;FMTTYPE=image/jpeg:https://jongerenverenigingwesp.nl/wp-content/uploads/2015/03/Volleybal.jpg
END:VEVENT
BEGIN:VEVENT
DTSTART;TZID=Europe/Amsterdam:20150402T180000
DTEND;TZID=Europe/Amsterdam:20150402T210000
DTSTAMP:20260424T033045
CREATED:20150102T200139Z
LAST-MODIFIED:20160418T123041Z
UID:383-1427997600-1428008400@jongerenverenigingwesp.nl
SUMMARY:The Passion
DESCRIPTION:Samen naar The Passion kijken en samen napraten op witte donderdag.
URL:https://jongerenverenigingwesp.nl/activiteit/the-passion/
CATEGORIES:Activiteit,Mystery Activity,Open
ATTACH;FMTTYPE=image/png:https://jongerenverenigingwesp.nl/wp-content/uploads/2016/04/Mystery-Activity-Banner.png
END:VEVENT
BEGIN:VEVENT
DTSTART;TZID=Europe/Amsterdam:20150329T083000
DTEND;TZID=Europe/Amsterdam:20150329T100000
DTSTAMP:20260424T033045
CREATED:20150323T170205Z
LAST-MODIFIED:20160418T122426Z
UID:719-1427617800-1427623200@jongerenverenigingwesp.nl
SUMMARY:Volleybaltraining (bij ZoVoC)
DESCRIPTION:Voor de sportdag van 19 april zullen wij een paar keer trainen. Dit wordt medemogelijk gemaakt door ZoVoC en Stichting Noord-Westerhal. Trainingen worden verzorgd door Marcel Verbeek\, trainer van competitie teams. Training zal in de Noord-Westerhal plaats vinden\, Buytenparklaan 6\, in de buurt van Snowworld. Er is hier een bar. \nTrainingsdata: \n29 maart – 9:30 tot 11:00 \n4 april – 15:30 tot 17:00 \n12 april – 9:30 tot 11:00 \nNeem gymschoenen mee!
URL:https://jongerenverenigingwesp.nl/activiteit/volleybaltraining/
LOCATION:Noord-Westerhal\, Buytenparklaan 6\, Zoetermeer\, Zuid-Holland\, 2717 AX\, Nederland
CATEGORIES:Activiteit,Halfopen,Mystery Activity
ATTACH;FMTTYPE=image/jpeg:https://jongerenverenigingwesp.nl/wp-content/uploads/2015/03/Volleybal.jpg
END:VEVENT
BEGIN:VEVENT
DTSTART;TZID=Europe/Amsterdam:20150328T123000
DTEND;TZID=Europe/Amsterdam:20150328T150000
DTSTAMP:20260424T033045
CREATED:20150102T183303Z
LAST-MODIFIED:20160418T122406Z
UID:379-1427545800-1427554800@jongerenverenigingwesp.nl
SUMMARY:The Wasp Art Class
DESCRIPTION:Leef je helemaal uit in The Wasp Art Class. De creativiteit stroomt in het rond op deze fantastische middag.
URL:https://jongerenverenigingwesp.nl/activiteit/the-wasp-art-class/
CATEGORIES:Activiteit,Halfopen,Mystery Activity
ATTACH;FMTTYPE=image/jpeg:https://jongerenverenigingwesp.nl/wp-content/uploads/2015/03/tekening5-560x400.jpg
END:VEVENT
BEGIN:VEVENT
DTSTART;TZID=Europe/Amsterdam:20150321T180000
DTEND;TZID=Europe/Amsterdam:20150322T000000
DTSTAMP:20260424T033045
CREATED:20150316T224235Z
LAST-MODIFIED:20160418T122303Z
UID:482-1426960800-1426982400@jongerenverenigingwesp.nl
SUMMARY:Spelletjesavond
DESCRIPTION:Kom 21 maart ook naar WESP om een spel en zelfs meerdere spellen te spelen\, alle spellen die je je kan bedenken of die je mee kan nemen zijn er. Als je een leuk spel hebt\, neem het dan vooral ook mee 🙂 \nEen lijst van spellen die aanwezig zullen zijn:\nMunchkin\nFische Fluppen Frikadellen\nCarcasonne\nMachiavelli\nCluedo\nBlack Stories\nWeerwolven\nFluxx\nChubucabra\nEn nog veel meer…
URL:https://jongerenverenigingwesp.nl/activiteit/spelletjesavond/
CATEGORIES:Activiteit,Halfopen,Spelletjesavond
ATTACH;FMTTYPE=image/png:https://jongerenverenigingwesp.nl/wp-content/uploads/2016/04/Spelletjesavond-Banner.png
END:VEVENT
BEGIN:VEVENT
DTSTART;TZID=Europe/Amsterdam:20150314T200000
DTEND;TZID=Europe/Amsterdam:20150314T200000
DTSTAMP:20260424T033045
CREATED:20150122T225321Z
LAST-MODIFIED:20160418T122151Z
UID:437-1426363200-1426363200@jongerenverenigingwesp.nl
SUMMARY:Algemene Leden Vergadering
DESCRIPTION:Uitsluitend voor leden\, als je voor aanvang geen lid bent zien we je helaas pas weer bij de volgende activiteit.
URL:https://jongerenverenigingwesp.nl/activiteit/algemene-leden-vergadering/
LOCATION:R.K. Jongerenvereniging WESP\, Nicolaasplein 2\, Zoetermeer\, 2712AV\, Nederland
CATEGORIES:Gesloten,Ledenvergadering
ATTACH;FMTTYPE=image/png:https://jongerenverenigingwesp.nl/wp-content/uploads/2015/11/WESP-Logo-Banner.png
END:VEVENT
BEGIN:VEVENT
DTSTART;TZID=Europe/Amsterdam:20150314T120000
DTEND;TZID=Europe/Amsterdam:20150314T160000
DTSTAMP:20260424T033045
CREATED:20150102T182204Z
LAST-MODIFIED:20160418T121039Z
UID:377-1426334400-1426348800@jongerenverenigingwesp.nl
SUMMARY:Oud Papier Actie
DESCRIPTION:Elke tweede zaterdag van de maand loopt WESP de Oud Papier Actie om de jongerenvereniging in stand te houden. Ook meelopen? Geef je dan snel op bij Matthé.
URL:https://jongerenverenigingwesp.nl/activiteit/opa-2/
CATEGORIES:Activiteit,Open,Oud Papier Actie
ATTACH;FMTTYPE=image/png:https://jongerenverenigingwesp.nl/wp-content/uploads/2016/04/OudPapierActie-Banner-e1613771233636.png
END:VEVENT
BEGIN:VEVENT
DTSTART;TZID=Europe/Amsterdam:20150314T080000
DTEND;TZID=Europe/Amsterdam:20150314T110000
DTSTAMP:20260424T033045
CREATED:20141231T050210Z
LAST-MODIFIED:20160418T115825Z
UID:366-1426320000-1426330800@jongerenverenigingwesp.nl
SUMMARY:Jantje Beton
DESCRIPTION:In februari 2014 is er 1\,3 miljoen euro bij elkaar gecollecteerd! Hierdoor hebben duizenden kinderen in heel Nederland meer buiten kunnen spelen. En dat is belangrijk voor hun gezonde ontwikkeling. Ook in 2015 gaan we voor een zo hoog mogelijke opbrengst. Doe jij ook mee?! Je kunt je weer opgeven. \nIn 2015 vindt de collecte plaats van 9 t/m 14 maart. Deelnemers mogen 50% van de opbrengst houden voor de jeugdactiviteiten van de club\, vereniging of stichting. De andere 50% besteedt Jantje Beton aan buitenspeelprojecten
URL:https://jongerenverenigingwesp.nl/activiteit/jantjebeton15-6/
CATEGORIES:Activiteit,Jantje Beton,Open
ATTACH;FMTTYPE=image/jpeg:https://jongerenverenigingwesp.nl/wp-content/uploads/2014/12/Jantje-Beton.jpg
END:VEVENT
BEGIN:VEVENT
DTSTART;TZID=Europe/Amsterdam:20150313T170000
DTEND;TZID=Europe/Amsterdam:20150313T191500
DTSTAMP:20260424T033045
CREATED:20141231T045611Z
LAST-MODIFIED:20160418T115825Z
UID:364-1426266000-1426274100@jongerenverenigingwesp.nl
SUMMARY:Jantje Beton
DESCRIPTION:In februari 2014 is er 1\,3 miljoen euro bij elkaar gecollecteerd! Hierdoor hebben duizenden kinderen in heel Nederland meer buiten kunnen spelen. En dat is belangrijk voor hun gezonde ontwikkeling. Ook in 2015 gaan we voor een zo hoog mogelijke opbrengst. Doe jij ook mee?! Je kunt je weer opgeven. In 2015 vindt de collecte plaats van 9 t/m 14 maart. Deelnemers mogen 50% van de opbrengst houden voor de jeugdactiviteiten van de club\, vereniging of stichting. De andere 50% besteedt Jantje Beton aan buitenspeelprojecten.
URL:https://jongerenverenigingwesp.nl/activiteit/jantjebeton15-5/
CATEGORIES:Activiteit,Jantje Beton,Open
ATTACH;FMTTYPE=image/jpeg:https://jongerenverenigingwesp.nl/wp-content/uploads/2014/12/Jantje-Beton.jpg
END:VEVENT
END:VCALENDAR