BEGIN:VCALENDAR
VERSION:2.0
PRODID:-//WESP - ECPv6.15.20//NONSGML v1.0//EN
CALSCALE:GREGORIAN
METHOD:PUBLISH
X-ORIGINAL-URL:https://jongerenverenigingwesp.nl
X-WR-CALDESC:Evenementen voor WESP
REFRESH-INTERVAL;VALUE=DURATION:PT1H
X-Robots-Tag:noindex
X-PUBLISHED-TTL:PT1H
BEGIN:VTIMEZONE
TZID:Europe/Amsterdam
BEGIN:DAYLIGHT
TZOFFSETFROM:+0100
TZOFFSETTO:+0200
TZNAME:CEST
DTSTART:20140330T010000
END:DAYLIGHT
BEGIN:STANDARD
TZOFFSETFROM:+0200
TZOFFSETTO:+0100
TZNAME:CET
DTSTART:20141026T010000
END:STANDARD
BEGIN:DAYLIGHT
TZOFFSETFROM:+0100
TZOFFSETTO:+0200
TZNAME:CEST
DTSTART:20150329T010000
END:DAYLIGHT
BEGIN:STANDARD
TZOFFSETFROM:+0200
TZOFFSETTO:+0100
TZNAME:CET
DTSTART:20151025T010000
END:STANDARD
BEGIN:DAYLIGHT
TZOFFSETFROM:+0100
TZOFFSETTO:+0200
TZNAME:CEST
DTSTART:20160327T010000
END:DAYLIGHT
BEGIN:STANDARD
TZOFFSETFROM:+0200
TZOFFSETTO:+0100
TZNAME:CET
DTSTART:20161030T010000
END:STANDARD
BEGIN:DAYLIGHT
TZOFFSETFROM:+0100
TZOFFSETTO:+0200
TZNAME:CEST
DTSTART:20170326T010000
END:DAYLIGHT
BEGIN:STANDARD
TZOFFSETFROM:+0200
TZOFFSETTO:+0100
TZNAME:CET
DTSTART:20171029T010000
END:STANDARD
END:VTIMEZONE
BEGIN:VEVENT
DTSTART;TZID=Europe/Amsterdam:20160212T183000
DTEND;TZID=Europe/Amsterdam:20160213T000000
DTSTAMP:20260423T200330
CREATED:20160121T004000Z
LAST-MODIFIED:20160418T141120Z
UID:1026-1455301800-1455321600@jongerenverenigingwesp.nl
SUMMARY:Praise Repetitie
DESCRIPTION:
URL:https://jongerenverenigingwesp.nl/activiteit/repetitie-praise/
LOCATION:R.K. Jongerenvereniging WESP\, Nicolaasplein 2\, Zoetermeer\, 2712AV\, Nederland
CATEGORIES:Activiteit,Gesloten Introducé,Repetitie,SOOS
ATTACH;FMTTYPE=image/jpeg:https://jongerenverenigingwesp.nl/wp-content/uploads/2016/01/JKPraise.jpg
ORGANIZER;CN="R.K. Jongerenkoor Praise":MAILTO:info@jkpraise.nl
END:VEVENT
BEGIN:VEVENT
DTSTART;TZID=Europe/Amsterdam:20160123T120000
DTEND;TZID=Europe/Amsterdam:20160123T140000
DTSTAMP:20260423T200330
CREATED:20160114T195851Z
LAST-MODIFIED:20160418T140818Z
UID:1024-1453550400-1453557600@jongerenverenigingwesp.nl
SUMMARY:Latin Dans Workshop
DESCRIPTION:Entree is 2 euro voor niet-leden.
URL:https://jongerenverenigingwesp.nl/activiteit/latin-dans-workshop/
LOCATION:R.K. Jongerenvereniging WESP\, Nicolaasplein 2\, Zoetermeer\, 2712AV\, Nederland
CATEGORIES:Activiteit,Halfopen,Mystery Activity
ATTACH;FMTTYPE=image/png:https://jongerenverenigingwesp.nl/wp-content/uploads/2016/04/Mystery-Activity-Banner.png
END:VEVENT
BEGIN:VEVENT
DTSTART;TZID=Europe/Amsterdam:20160109T120000
DTEND;TZID=Europe/Amsterdam:20160109T160000
DTSTAMP:20260423T200330
CREATED:20150526T142339Z
LAST-MODIFIED:20160418T140246Z
UID:892-1452340800-1452355200@jongerenverenigingwesp.nl
SUMMARY:Oud Papier Actie
DESCRIPTION:Elke tweede zaterdag van de maand loopt WESP de Oud Papier Actie om de jongerenvereniging in stand te houden. Ook meelopen? Geef je dan snel op bij Sander. Oud papier inleveren kan bij WESP van 13:00 tot 17:00 \n\n← Terug Bedankt voor je reactie. ✨\n\n\n					\n						\n							\n							\n						\n						\n						\n						\n						\n							\n								\n									\n										\n										\n									\n									\n										\n										\n									\n								\n							\n						\n						\n							\n								\n									\n									\n										\n									\n									\n									\n								\n							\n						\n					\n				\n\n\n\nNaam(vereist)\n\n \n			\n				\n					\n						\n						\n						\n					\n				\n				\n			 \n	\n\n\nE-mail(vereist)\n\n \n			\n				\n					\n						\n						\n						\n					\n				\n				\n			 \n	\n\n\nWelke OPA doe je mee?(vereist)\n\n \n			\n				\n					\n						\n						\n						\n					\n				\n				\n			 \n	\n\n\n \nHoud me op de hoogte\n\n\n			\n				\n					\n						\n						\n						\n					\n				\n				\n				\n	\n\n				\n					\n				\n						Verzenden
URL:https://jongerenverenigingwesp.nl/activiteit/oud-papier-actie-5/
LOCATION:R.K. Jongerenvereniging WESP\, Nicolaasplein 2\, Zoetermeer\, 2712AV\, Nederland
CATEGORIES:Activiteit,Open,Oud Papier Actie
ATTACH;FMTTYPE=image/png:https://jongerenverenigingwesp.nl/wp-content/uploads/2016/04/OudPapierActie-Banner-e1613771233636.png
END:VEVENT
BEGIN:VEVENT
DTSTART;VALUE=DATE:20151227
DTEND;VALUE=DATE:20151229
DTSTAMP:20260423T200330
CREATED:20150906T205351Z
LAST-MODIFIED:20160418T140136Z
UID:942-1451188800-1451275199@jongerenverenigingwesp.nl
SUMMARY:Christmas Cooking
DESCRIPTION:Bij kerst hoort een gezellig feest voor iedereen\, met WESP tijdens de kerstdagen zit je goed. Op derde kerstdag vieren wij samen kerst met een grote ‘ChristmasCooking’. Dus kokkerellen en smikkelen op de feestelijkste manier.
URL:https://jongerenverenigingwesp.nl/activiteit/christmascooking/
CATEGORIES:Activiteit,Gesloten Introducé,WESPdiner
ATTACH;FMTTYPE=image/png:https://jongerenverenigingwesp.nl/wp-content/uploads/2016/04/WESPdiner-Banner.png
END:VEVENT
BEGIN:VEVENT
DTSTART;TZID=Europe/Amsterdam:20151224T193000
DTEND;TZID=Europe/Amsterdam:20151225T000000
DTSTAMP:20260423T200330
CREATED:20150906T204109Z
LAST-MODIFIED:20160418T140024Z
UID:940-1450985400-1451001600@jongerenverenigingwesp.nl
SUMMARY:JongerenSOOS
DESCRIPTION:JongerenSOOS vanaf 20:30 met iedere maand een ander speciaal bier. Zoals altijd: raad als eerste het bier en maak kans op één gratis drankje.
URL:https://jongerenverenigingwesp.nl/activiteit/jongerensoos-4/
CATEGORIES:Activiteit,Halfopen,SOOS
ATTACH;FMTTYPE=image/png:https://jongerenverenigingwesp.nl/wp-content/uploads/2016/04/JongerenSOOS-Banner.png
END:VEVENT
BEGIN:VEVENT
DTSTART;TZID=Europe/Amsterdam:20151212T183000
DTEND;TZID=Europe/Amsterdam:20151212T220000
DTSTAMP:20260423T200330
CREATED:20150904T132300Z
LAST-MODIFIED:20160418T135957Z
UID:927-1449945000-1449957600@jongerenverenigingwesp.nl
SUMMARY:Ledenraad
DESCRIPTION:Ledenraad\, exclusief voor leden.
URL:https://jongerenverenigingwesp.nl/activiteit/ledenraad/
CATEGORIES:Gesloten,Ledenvergadering
ATTACH;FMTTYPE=image/png:https://jongerenverenigingwesp.nl/wp-content/uploads/2015/11/WESP-Logo-Banner.png
END:VEVENT
BEGIN:VEVENT
DTSTART;TZID=Europe/Amsterdam:20151212T163000
DTEND;TZID=Europe/Amsterdam:20151212T180000
DTSTAMP:20260423T200330
CREATED:20150904T160317Z
LAST-MODIFIED:20160418T135911Z
UID:934-1449937800-1449943200@jongerenverenigingwesp.nl
SUMMARY:WESPdiner Toekomst
DESCRIPTION:Na elke OPA een heerlijk WESPdiner met natuurlijk nadruk op diner. De kok is in de toekomst geweest en heeft eten en recepten meegenomen\, laat je zintuigen je niet verraden. Dieetwensen en allergieën graag melden. Vanaf 17:30
URL:https://jongerenverenigingwesp.nl/activiteit/wespdiner-toekomst/
CATEGORIES:Activiteit,Halfopen,WESPdiner
ATTACH;FMTTYPE=image/png:https://jongerenverenigingwesp.nl/wp-content/uploads/2016/04/WESPdiner-Banner.png
END:VEVENT
BEGIN:VEVENT
DTSTART;TZID=Europe/Amsterdam:20151212T120000
DTEND;TZID=Europe/Amsterdam:20151212T160000
DTSTAMP:20260423T200330
CREATED:20150526T133220Z
LAST-MODIFIED:20160418T135845Z
UID:890-1449921600-1449936000@jongerenverenigingwesp.nl
SUMMARY:Oud Papier Actie
DESCRIPTION:Elke tweede zaterdag van de maand loopt WESP de Oud Papier Actie om de jongerenvereniging in stand te houden. Ook meelopen? Geef je dan snel op. Oud papier inleveren kan bij WESP van 13:00 tot 17:00 \n\n← Terug Bedankt voor je reactie. ✨\n\n\n					\n						\n							\n							\n						\n						\n						\n						\n						\n							\n								\n									\n										\n										\n									\n									\n										\n										\n									\n								\n							\n						\n						\n							\n								\n									\n									\n										\n									\n									\n									\n								\n							\n						\n					\n				\n\n\n\nNaam(vereist)\n\n \n			\n				\n					\n						\n						\n						\n					\n				\n				\n			 \n	\n\n\nE-mail(vereist)\n\n \n			\n				\n					\n						\n						\n						\n					\n				\n				\n			 \n	\n\n\nWelke OPA doe je mee?(vereist)\n\n \n			\n				\n					\n						\n						\n						\n					\n				\n				\n			 \n	\n\n\n \nHoud me op de hoogte\n\n\n			\n				\n					\n						\n						\n						\n					\n				\n				\n				\n	\n\n				\n					\n				\n						Verzenden
URL:https://jongerenverenigingwesp.nl/activiteit/oud-papier-actie-4/
LOCATION:R.K. Jongerenvereniging WESP\, Nicolaasplein 2\, Zoetermeer\, 2712AV\, Nederland
CATEGORIES:Activiteit,Open,Oud Papier Actie
ATTACH;FMTTYPE=image/png:https://jongerenverenigingwesp.nl/wp-content/uploads/2016/04/OudPapierActie-Banner-e1613771233636.png
END:VEVENT
BEGIN:VEVENT
DTSTART;TZID=Europe/Amsterdam:20151128T183000
DTEND;TZID=Europe/Amsterdam:20151129T000000
DTSTAMP:20260423T200330
CREATED:20150904T113322Z
LAST-MODIFIED:20160418T135753Z
UID:918-1448735400-1448755200@jongerenverenigingwesp.nl
SUMMARY:Julie Andrews Avond
DESCRIPTION:Julie Andrews avond! Zie meer info op onze facebook.
URL:https://jongerenverenigingwesp.nl/activiteit/julie-andrews-avond/
LOCATION:R.K. Jongerenvereniging WESP\, Nicolaasplein 2\, Zoetermeer\, 2712AV\, Nederland
CATEGORIES:Activiteit,Filmavond,Halfopen
ATTACH;FMTTYPE=image/png:https://jongerenverenigingwesp.nl/wp-content/uploads/2016/04/Filmavond-Banner.png
END:VEVENT
BEGIN:VEVENT
DTSTART;TZID=Europe/Amsterdam:20151114T163000
DTEND;TZID=Europe/Amsterdam:20151114T180000
DTSTAMP:20260423T200330
CREATED:20150904T155623Z
LAST-MODIFIED:20160418T134859Z
UID:932-1447518600-1447524000@jongerenverenigingwesp.nl
SUMMARY:WESPdiner Hollands
DESCRIPTION:Na elke OPA een heerlijk WESPdiner met natuurlijk nadruk op diner. Oer-Hollands zullen onze koks Emilio en EstherR koken\, dus eigenlijk alles dat je zou verwachten. Dieetwensen en allergieën graag melden. Vanaf 17:30
URL:https://jongerenverenigingwesp.nl/activiteit/wespdiner-hollands/
LOCATION:R.K. Jongerenvereniging WESP\, Nicolaasplein 2\, Zoetermeer\, 2712AV\, Nederland
CATEGORIES:Activiteit,Halfopen,WESPdiner
ATTACH;FMTTYPE=image/png:https://jongerenverenigingwesp.nl/wp-content/uploads/2016/04/WESPdiner-Banner.png
END:VEVENT
BEGIN:VEVENT
DTSTART;TZID=Europe/Amsterdam:20151114T120000
DTEND;TZID=Europe/Amsterdam:20151114T160000
DTSTAMP:20260423T200330
CREATED:20150526T133039Z
LAST-MODIFIED:20160418T134825Z
UID:889-1447502400-1447516800@jongerenverenigingwesp.nl
SUMMARY:Oud Papier Actie
DESCRIPTION:Elke tweede zaterdag van de maand loopt WESP de Oud Papier Actie om de jongerenvereniging in stand te houden. Ook meelopen? Geef je dan snel op bij Sander. Oud papier inleveren kan bij WESP van 13:00 tot 17:00 \n\n← Terug Bedankt voor je reactie. ✨\n\n\n					\n						\n							\n							\n						\n						\n						\n						\n						\n							\n								\n									\n										\n										\n									\n									\n										\n										\n									\n								\n							\n						\n						\n							\n								\n									\n									\n										\n									\n									\n									\n								\n							\n						\n					\n				\n\n\n\nNaam(vereist)\n\n \n			\n				\n					\n						\n						\n						\n					\n				\n				\n			 \n	\n\n\nE-mail(vereist)\n\n \n			\n				\n					\n						\n						\n						\n					\n				\n				\n			 \n	\n\n\nWelke OPA doe je mee?(vereist)\n\n \n			\n				\n					\n						\n						\n						\n					\n				\n				\n			 \n	\n\n\n \nHoud me op de hoogte\n\n\n			\n				\n					\n						\n						\n						\n					\n				\n				\n				\n	\n\n				\n					\n				\n						Verzenden
URL:https://jongerenverenigingwesp.nl/activiteit/oud-papier-actie-3/
LOCATION:R.K. Jongerenvereniging WESP\, Nicolaasplein 2\, Zoetermeer\, 2712AV\, Nederland
CATEGORIES:Activiteit,Open,Oud Papier Actie
ATTACH;FMTTYPE=image/png:https://jongerenverenigingwesp.nl/wp-content/uploads/2016/04/OudPapierActie-Banner-e1613771233636.png
END:VEVENT
BEGIN:VEVENT
DTSTART;TZID=Europe/Amsterdam:20151107T183000
DTEND;TZID=Europe/Amsterdam:20151108T020000
DTSTAMP:20260423T200330
CREATED:20150906T210234Z
LAST-MODIFIED:20160418T134727Z
UID:944-1446921000-1446948000@jongerenverenigingwesp.nl
SUMMARY:LAN-party
DESCRIPTION:Een nieuwe LAN-PARTY! Als je nog niet weet wat het is moet je zeker langskomen. We zullen weer een avond tegen elkaar gamen tot waarschijnlijk de allerlaatste uren.
URL:https://jongerenverenigingwesp.nl/activiteit/lan-party-2/
LOCATION:R.K. Jongerenvereniging WESP\, Nicolaasplein 2\, Zoetermeer\, 2712AV\, Nederland
CATEGORIES:Activiteit,Halfopen,Mystery Activity
ATTACH;FMTTYPE=image/jpeg:https://jongerenverenigingwesp.nl/wp-content/uploads/2015/09/WP_20150222_001.jpg
END:VEVENT
BEGIN:VEVENT
DTSTART;VALUE=DATE:20151031
DTEND;VALUE=DATE:20151102
DTSTAMP:20260423T200330
CREATED:20150906T210826Z
LAST-MODIFIED:20160418T134648Z
UID:947-1446264000-1446350399@jongerenverenigingwesp.nl
SUMMARY:Moorddiner
DESCRIPTION:Er is iemand dood gegaan tijdens het diner! Wat?! Nu?!
URL:https://jongerenverenigingwesp.nl/activiteit/moorddiner/
CATEGORIES:Activiteit,Gesloten Introducé,Mystery Activity,WESPdiner
ATTACH;FMTTYPE=image/png:https://jongerenverenigingwesp.nl/wp-content/uploads/2016/04/Mystery-Activity-Banner.png
END:VEVENT
BEGIN:VEVENT
DTSTART;TZID=Europe/Amsterdam:20151022T193000
DTEND;TZID=Europe/Amsterdam:20151023T000000
DTSTAMP:20260423T200330
CREATED:20150906T203804Z
LAST-MODIFIED:20160418T134504Z
UID:938-1445542200-1445558400@jongerenverenigingwesp.nl
SUMMARY:JongerenSOOS
DESCRIPTION:JongerenSOOS vanaf 20:30 met iedere maand een ander speciaal bier. Zoals altijd: raad als eerste het bier en maak kans op één gratis drankje.
URL:https://jongerenverenigingwesp.nl/activiteit/jongerensoos-2/
CATEGORIES:Activiteit,Halfopen,SOOS
ATTACH;FMTTYPE=image/png:https://jongerenverenigingwesp.nl/wp-content/uploads/2016/04/JongerenSOOS-Banner.png
END:VEVENT
BEGIN:VEVENT
DTSTART;VALUE=DATE:20151017
DTEND;VALUE=DATE:20151019
DTSTAMP:20260423T200330
CREATED:20150910T191408Z
LAST-MODIFIED:20160418T134432Z
UID:960-1445054400-1445140799@jongerenverenigingwesp.nl
SUMMARY:Crea Activiteit
DESCRIPTION:Dit is de tweede crea onder leiding van Jolidee. Iedereen kan aansluiten maar als je de eerste keer er ook was dan sluit het goed aan bij de vorige crea.
URL:https://jongerenverenigingwesp.nl/activiteit/crea/
CATEGORIES:Activiteit,Halfopen,Mystery Activity
ATTACH;FMTTYPE=image/jpeg:https://jongerenverenigingwesp.nl/wp-content/uploads/2015/03/tekening5-560x400.jpg
END:VEVENT
BEGIN:VEVENT
DTSTART;TZID=Europe/Amsterdam:20151010T163000
DTEND;TZID=Europe/Amsterdam:20151010T180000
DTSTAMP:20260423T200330
CREATED:20150904T155242Z
LAST-MODIFIED:20160418T134332Z
UID:931-1444494600-1444500000@jongerenverenigingwesp.nl
SUMMARY:WESPdiner Mystiek
DESCRIPTION:Na elke OPA een heerlijk WESPdiner met natuurlijk nadruk op diner. Deze keer kookt de kok in mystieke sferen\, net als een echt mystiek diner weet je maar nooit wat voor lekkers er zomaar verschijnt. Dieetwensen en allergieën graag melden. Vanaf 17:30
URL:https://jongerenverenigingwesp.nl/activiteit/wespdiner-mystiek/
LOCATION:R.K. Jongerenvereniging WESP\, Nicolaasplein 2\, Zoetermeer\, 2712AV\, Nederland
CATEGORIES:Activiteit,Halfopen,WESPdiner
ATTACH;FMTTYPE=image/png:https://jongerenverenigingwesp.nl/wp-content/uploads/2016/04/WESPdiner-Banner.png
END:VEVENT
BEGIN:VEVENT
DTSTART;TZID=Europe/Amsterdam:20151010T123000
DTEND;TZID=Europe/Amsterdam:20151011T000000
DTSTAMP:20260423T200330
CREATED:20150904T123105Z
LAST-MODIFIED:20160418T134254Z
UID:924-1444480200-1444521600@jongerenverenigingwesp.nl
SUMMARY:MAGIC!
DESCRIPTION:Spelletjesavond met MAGIC als thema. Dit betekent een echt MAGIC Tournament. Deze spelletjesavond is georganiseerd door Emilio en EstherR en in samenwerking met PartTimeHeroes. Voor iedereen vanaf 19:30.
URL:https://jongerenverenigingwesp.nl/activiteit/magic-spelavond/
CATEGORIES:Activiteit,Halfopen,Spelletjesavond
ATTACH;FMTTYPE=image/png:https://jongerenverenigingwesp.nl/wp-content/uploads/2016/04/Spelletjesavond-Banner.png
END:VEVENT
BEGIN:VEVENT
DTSTART;TZID=Europe/Amsterdam:20151010T120000
DTEND;TZID=Europe/Amsterdam:20151010T160000
DTSTAMP:20260423T200330
CREATED:20150526T132945Z
LAST-MODIFIED:20160418T134033Z
UID:888-1444478400-1444492800@jongerenverenigingwesp.nl
SUMMARY:Oud Papier Actie
DESCRIPTION:Elke tweede zaterdag van de maand loopt WESP de Oud Papier Actie om de jongerenvereniging in stand te houden. Ook meelopen? Geef je dan snel op bij Sander. Oud papier inleveren kan bij WESP van 13:00 tot 17:00. \n\n← Terug Bedankt voor je reactie. ✨\n\n\n					\n						\n							\n							\n						\n						\n						\n						\n						\n							\n								\n									\n										\n										\n									\n									\n										\n										\n									\n								\n							\n						\n						\n							\n								\n									\n									\n										\n									\n									\n									\n								\n							\n						\n					\n				\n\n\n\nNaam(vereist)\n\n \n			\n				\n					\n						\n						\n						\n					\n				\n				\n			 \n	\n\n\nE-mail(vereist)\n\n \n			\n				\n					\n						\n						\n						\n					\n				\n				\n			 \n	\n\n\nWelke OPA doe je mee?(vereist)\n\n \n			\n				\n					\n						\n						\n						\n					\n				\n				\n			 \n	\n\n\n \nHoud me op de hoogte\n\n\n			\n				\n					\n						\n						\n						\n					\n				\n				\n				\n	\n\n				\n					\n				\n						Verzenden
URL:https://jongerenverenigingwesp.nl/activiteit/oud-papier-actie-2/
CATEGORIES:Activiteit,Open,Oud Papier Actie
ATTACH;FMTTYPE=image/png:https://jongerenverenigingwesp.nl/wp-content/uploads/2016/04/OudPapierActie-Banner-e1613771233636.png
END:VEVENT
BEGIN:VEVENT
DTSTART;TZID=Europe/Amsterdam:20151003T183000
DTEND;TZID=Europe/Amsterdam:20151004T000000
DTSTAMP:20260423T200330
CREATED:20151001T183631Z
LAST-MODIFIED:20160418T133945Z
UID:976-1443897000-1443916800@jongerenverenigingwesp.nl
SUMMARY:Zoete filmavond
DESCRIPTION:Op de eerste zaterdag van de maand\, 3 oktober\, introduceert het bestuur een nieuwe activiteit voor haar leden. Vanaf 16.00u ben je welkom op het koffie-en-thee moment. Met jou willen we een gezellige middag maken\, maar ook vooral luisteren naar jouw suggesties voor een nog leuker WESP.\nAansluitend op dit moment is er de gelegenheid om samen cupcakes te bakken. Onder de bezielende leiding van Siny gaan we ook vanaf 16.00u van niets een cupcake in elkaar knutselen.\nDeze heerlijke baksels kunnen opgegeten worden tijdens de filmavond met natuurlijk een thema dat lekker aansluit.
URL:https://jongerenverenigingwesp.nl/activiteit/zoete-filmavond/
LOCATION:R.K. Jongerenvereniging WESP\, Nicolaasplein 2\, Zoetermeer\, 2712AV\, Nederland
CATEGORIES:Activiteit,Filmavond,Halfopen
ATTACH;FMTTYPE=image/png:https://jongerenverenigingwesp.nl/wp-content/uploads/2016/04/Filmavond-Banner.png
END:VEVENT
BEGIN:VEVENT
DTSTART;TZID=Europe/Amsterdam:20151003T120000
DTEND;TZID=Europe/Amsterdam:20151003T160000
DTSTAMP:20260423T200330
CREATED:20150906T211438Z
LAST-MODIFIED:20160418T133731Z
UID:951-1443873600-1443888000@jongerenverenigingwesp.nl
SUMMARY:Cupcakes maken
DESCRIPTION:Op de eerste zaterdag van de maand\, 3 oktober\, introduceert het bestuur een nieuwe activiteit voor haar leden. Vanaf 16.00u ben je welkom op het koffie-en-thee moment. Met jou willen we een gezellige middag maken\, maar ook vooral luisteren naar jouw suggesties voor een nog leuker WESP.\nAansluitend op dit moment is er de gelegenheid om samen cupcakes te bakken. Onder de bezielende leiding van Siny gaan we ook vanaf 16.00u van niets een cupcake in elkaar knutselen.\nDeze heerlijke baksels kunnen opgegeten worden tijdens de filmavond met natuurlijk een thema dat lekker aansluit.
URL:https://jongerenverenigingwesp.nl/activiteit/cupcakes-maken/
CATEGORIES:Activiteit,Halfopen,Mystery Activity
ATTACH;FMTTYPE=image/png:https://jongerenverenigingwesp.nl/wp-content/uploads/2016/04/Mystery-Activity-Banner.png
END:VEVENT
BEGIN:VEVENT
DTSTART;TZID=Europe/Amsterdam:20150924T193000
DTEND;TZID=Europe/Amsterdam:20150925T000000
DTSTAMP:20260423T200330
CREATED:20150905T164549Z
LAST-MODIFIED:20160418T133632Z
UID:937-1443123000-1443139200@jongerenverenigingwesp.nl
SUMMARY:JongerenSOOS
DESCRIPTION:JongerenSOOS vanaf 20:30 met iedere maand een ander speciaal bier. Zoals altijd: raad als eerste het bier en maak kans op één gratis drankje.
URL:https://jongerenverenigingwesp.nl/activiteit/jongerensoos/
CATEGORIES:Activiteit,Halfopen,SOOS
ATTACH;FMTTYPE=image/png:https://jongerenverenigingwesp.nl/wp-content/uploads/2016/04/JongerenSOOS-Banner.png
END:VEVENT
BEGIN:VEVENT
DTSTART;TZID=Europe/Amsterdam:20150919T160000
DTEND;TZID=Europe/Amsterdam:20150919T220000
DTSTAMP:20260423T200330
CREATED:20150906T212333Z
LAST-MODIFIED:20160410T223836Z
UID:954-1442678400-1442700000@jongerenverenigingwesp.nl
SUMMARY:CultuurLokaal Peuzel/SOOS
DESCRIPTION:Na CultuurLokaal hebben wij een peuzel voor iedereen die mee heeft geholpen of graag mee eet en daarna borrelen we na. Voor 15 tot 35 begint rond 17:00 afhankelijk van het afbouwen op de Duitslandlaan.
URL:https://jongerenverenigingwesp.nl/activiteit/cultuurlokaal-peuzelsoos/
CATEGORIES:Activiteit,Open,SOOS,WESPdiner
ATTACH;FMTTYPE=image/png:https://jongerenverenigingwesp.nl/wp-content/uploads/2016/04/JongerenSOOS-Banner.png
END:VEVENT
BEGIN:VEVENT
DTSTART;TZID=Europe/Amsterdam:20150919T100000
DTEND;TZID=Europe/Amsterdam:20150919T160000
DTSTAMP:20260423T200330
CREATED:20150906T212023Z
LAST-MODIFIED:20160418T133510Z
UID:953-1442656800-1442678400@jongerenverenigingwesp.nl
SUMMARY:CultuurLokaal
DESCRIPTION:WESP staat dit jaar op CultuurLokaal op de Duitslandlaan met een eigen kraam. Natuurlijk is ook Praise hier te zien als onderdeel van WESP.
URL:https://jongerenverenigingwesp.nl/activiteit/cultuurlokaal/
CATEGORIES:Activiteit,Open
ATTACH;FMTTYPE=image/png:https://jongerenverenigingwesp.nl/wp-content/uploads/2015/11/WESP-Logo-Banner.png
END:VEVENT
BEGIN:VEVENT
DTSTART;VALUE=DATE:20150919
DTEND;VALUE=DATE:20150921
DTSTAMP:20260423T200330
CREATED:20150906T211800Z
LAST-MODIFIED:20160418T133427Z
UID:952-1442635200-1442721599@jongerenverenigingwesp.nl
SUMMARY:Start Grote Clubactie
DESCRIPTION:Steun WESP en koop loten: online en persoonlijk. Sluiting online verkoop op 19 november en tot 9 december worden er nog loten contant verkocht.
URL:https://jongerenverenigingwesp.nl/activiteit/start-grote-clubactie/
CATEGORIES:Activiteit,Mystery Activity,Open
ATTACH;FMTTYPE=image/png:https://jongerenverenigingwesp.nl/wp-content/uploads/2015/11/GCA-WESP-Logo-Banner.png
END:VEVENT
BEGIN:VEVENT
DTSTART;TZID=Europe/Amsterdam:20150912T183000
DTEND;TZID=Europe/Amsterdam:20150913T000000
DTSTAMP:20260423T200330
CREATED:20150904T120513Z
LAST-MODIFIED:20160418T133350Z
UID:923-1442082600-1442102400@jongerenverenigingwesp.nl
SUMMARY:New Game Spelavond
DESCRIPTION:Spelletjesavond met New Game als thema waarbij iedereen een spel presenteert en daarna kan je bij het leukste spel aansluiten. Kortom: met allemaal spellen die we nog nooit hebben gespeeld. Deze spelletjesavond is georganiseerd door Rosalinde.
URL:https://jongerenverenigingwesp.nl/activiteit/new-game-spelavond/
CATEGORIES:Activiteit,Halfopen,Spelletjesavond
ATTACH;FMTTYPE=image/png:https://jongerenverenigingwesp.nl/wp-content/uploads/2016/04/Spelletjesavond-Banner.png
END:VEVENT
BEGIN:VEVENT
DTSTART;TZID=Europe/Amsterdam:20150912T163000
DTEND;TZID=Europe/Amsterdam:20150912T180000
DTSTAMP:20260423T200330
CREATED:20150904T154657Z
LAST-MODIFIED:20160418T133314Z
UID:930-1442075400-1442080800@jongerenverenigingwesp.nl
SUMMARY:WESPdiner India
DESCRIPTION:Na elke OPA een heerlijk WESPdiner met natuurlijk nadruk op diner. Je waant je deze keer in India vanwege de geuren maar vooral vanwege de typische smaken die alleen uit India kunnen komen. Anneroos is de kok van deze avond\, dieetwensen en allergieën graag melden. Vanaf 17:30
URL:https://jongerenverenigingwesp.nl/activiteit/wespdiner-india/
CATEGORIES:Activiteit,Halfopen,WESPdiner
ATTACH;FMTTYPE=image/png:https://jongerenverenigingwesp.nl/wp-content/uploads/2016/04/WESPdiner-Banner.png
END:VEVENT
BEGIN:VEVENT
DTSTART;TZID=Europe/Amsterdam:20150912T120000
DTEND;TZID=Europe/Amsterdam:20150912T160000
DTSTAMP:20260423T200330
CREATED:20150526T132232Z
LAST-MODIFIED:20160418T133241Z
UID:887-1442059200-1442073600@jongerenverenigingwesp.nl
SUMMARY:Oud Papier Actie
DESCRIPTION:Elke tweede zaterdag van de maand loopt WESP de Oud Papier Actie om de jongerenvereniging in stand te houden. Ook meelopen? Geef je dan snel op bij Sander. Oud papier inleveren kan bij WESP van 13:00 tot 17:00 \n\n← Terug Bedankt voor je reactie. ✨\n\n\n					\n						\n							\n							\n						\n						\n						\n						\n						\n							\n								\n									\n										\n										\n									\n									\n										\n										\n									\n								\n							\n						\n						\n							\n								\n									\n									\n										\n									\n									\n									\n								\n							\n						\n					\n				\n\n\n\nNaam(vereist)\n\n \n			\n				\n					\n						\n						\n						\n					\n				\n				\n			 \n	\n\n\nE-mail(vereist)\n\n \n			\n				\n					\n						\n						\n						\n					\n				\n				\n			 \n	\n\n\nWelke OPA doe je mee?(vereist)\n\n \n			\n				\n					\n						\n						\n						\n					\n				\n				\n			 \n	\n\n\n \nHoud me op de hoogte\n\n\n			\n				\n					\n						\n						\n						\n					\n				\n				\n				\n	\n\n				\n					\n				\n						Verzenden
URL:https://jongerenverenigingwesp.nl/activiteit/887/
CATEGORIES:Activiteit,Open,Oud Papier Actie
ATTACH;FMTTYPE=image/png:https://jongerenverenigingwesp.nl/wp-content/uploads/2016/04/OudPapierActie-Banner-e1613771233636.png
END:VEVENT
BEGIN:VEVENT
DTSTART;TZID=Europe/Amsterdam:20150905T183000
DTEND;TZID=Europe/Amsterdam:20150906T000000
DTSTAMP:20260423T200330
CREATED:20150904T111308Z
LAST-MODIFIED:20160418T133218Z
UID:906-1441477800-1441497600@jongerenverenigingwesp.nl
SUMMARY:Filmavond
DESCRIPTION:Filmavond met als thema Julie Andrews! Begint om 19:30 en iedereen van 15-35 jaar is welkom. Deze filmavond is mede mogelijk gemaakt door Anneroos.
URL:https://jongerenverenigingwesp.nl/activiteit/filmavond-5/
CATEGORIES:Activiteit,Filmavond,Halfopen
ATTACH;FMTTYPE=image/png:https://jongerenverenigingwesp.nl/wp-content/uploads/2016/04/Filmavond-Banner.png
END:VEVENT
BEGIN:VEVENT
DTSTART;TZID=Europe/Amsterdam:20150808T120000
DTEND;TZID=Europe/Amsterdam:20150808T160000
DTSTAMP:20260423T200330
CREATED:20150526T131853Z
LAST-MODIFIED:20160418T133141Z
UID:886-1439035200-1439049600@jongerenverenigingwesp.nl
SUMMARY:Oud Papier Actie
DESCRIPTION:Elke tweede zaterdag van de maand loopt WESP de Oud Papier Actie om de jongerenvereniging in stand te houden. Ook meelopen? Geef je dan snel op bij Sander. Oud papier inleveren kan bij WESP van 13:00 tot 17:00 \n\n← Terug Bedankt voor je reactie. ✨\n\n\n					\n						\n							\n							\n						\n						\n						\n						\n						\n							\n								\n									\n										\n										\n									\n									\n										\n										\n									\n								\n							\n						\n						\n							\n								\n									\n									\n										\n									\n									\n									\n								\n							\n						\n					\n				\n\n\n\nNaam(vereist)\n\n \n			\n				\n					\n						\n						\n						\n					\n				\n				\n			 \n	\n\n\nE-mail(vereist)\n\n \n			\n				\n					\n						\n						\n						\n					\n				\n				\n			 \n	\n\n\nWelke OPA doe je mee?(vereist)\n\n \n			\n				\n					\n						\n						\n						\n					\n				\n				\n			 \n	\n\n\n \nHoud me op de hoogte\n\n\n			\n				\n					\n						\n						\n						\n					\n				\n				\n				\n	\n\n				\n					\n				\n						Verzenden
URL:https://jongerenverenigingwesp.nl/activiteit/oud-papier-actie/
CATEGORIES:Activiteit,Open,Oud Papier Actie
ATTACH;FMTTYPE=image/png:https://jongerenverenigingwesp.nl/wp-content/uploads/2016/04/OudPapierActie-Banner-e1613771233636.png
END:VEVENT
BEGIN:VEVENT
DTSTART;TZID=Europe/Amsterdam:20150711T080000
DTEND;TZID=Europe/Amsterdam:20150711T160000
DTSTAMP:20260423T200330
CREATED:20150104T023536Z
LAST-MODIFIED:20160418T133116Z
UID:413-1436601600-1436630400@jongerenverenigingwesp.nl
SUMMARY:Oud Papier Actie
DESCRIPTION:Elke tweede zaterdag van de maand loopt WESP de Oud Papier Actie om de jongerenvereniging in stand te houden. Ook meelopen? Geef je dan snel op bij Sander. \n\n← Terug Bedankt voor je reactie. ✨\n\n\n					\n						\n							\n							\n						\n						\n						\n						\n						\n							\n								\n									\n										\n										\n									\n									\n										\n										\n									\n								\n							\n						\n						\n							\n								\n									\n									\n										\n									\n									\n									\n								\n							\n						\n					\n				\n\n\n\nNaam(vereist)\n\n \n			\n				\n					\n						\n						\n						\n					\n				\n				\n			 \n	\n\n\nE-mail(vereist)\n\n \n			\n				\n					\n						\n						\n						\n					\n				\n				\n			 \n	\n\n\nWelke OPA doe je mee?(vereist)\n\n \n			\n				\n					\n						\n						\n						\n					\n				\n				\n			 \n	\n\n\n \nHoud me op de hoogte\n\n\n			\n				\n					\n						\n						\n						\n					\n				\n				\n				\n	\n\n				\n					\n				\n						Verzenden
URL:https://jongerenverenigingwesp.nl/activiteit/opa-6/
LOCATION:R.K. Jongerenvereniging WESP\, Nicolaasplein 2\, Zoetermeer\, 2712AV\, Nederland
CATEGORIES:Activiteit,Open,Oud Papier Actie
ATTACH;FMTTYPE=image/png:https://jongerenverenigingwesp.nl/wp-content/uploads/2016/04/OudPapierActie-Banner-e1613771233636.png
END:VEVENT
END:VCALENDAR