BEGIN:VCALENDAR
VERSION:2.0
PRODID:-//WESP - ECPv6.15.20//NONSGML v1.0//EN
CALSCALE:GREGORIAN
METHOD:PUBLISH
X-WR-CALNAME:WESP
X-ORIGINAL-URL:https://jongerenverenigingwesp.nl
X-WR-CALDESC:Evenementen voor WESP
REFRESH-INTERVAL;VALUE=DURATION:PT1H
X-Robots-Tag:noindex
X-PUBLISHED-TTL:PT1H
BEGIN:VTIMEZONE
TZID:Europe/Amsterdam
BEGIN:DAYLIGHT
TZOFFSETFROM:+0100
TZOFFSETTO:+0200
TZNAME:CEST
DTSTART:20140330T010000
END:DAYLIGHT
BEGIN:STANDARD
TZOFFSETFROM:+0200
TZOFFSETTO:+0100
TZNAME:CET
DTSTART:20141026T010000
END:STANDARD
BEGIN:DAYLIGHT
TZOFFSETFROM:+0100
TZOFFSETTO:+0200
TZNAME:CEST
DTSTART:20150329T010000
END:DAYLIGHT
BEGIN:STANDARD
TZOFFSETFROM:+0200
TZOFFSETTO:+0100
TZNAME:CET
DTSTART:20151025T010000
END:STANDARD
BEGIN:DAYLIGHT
TZOFFSETFROM:+0100
TZOFFSETTO:+0200
TZNAME:CEST
DTSTART:20160327T010000
END:DAYLIGHT
BEGIN:STANDARD
TZOFFSETFROM:+0200
TZOFFSETTO:+0100
TZNAME:CET
DTSTART:20161030T010000
END:STANDARD
BEGIN:DAYLIGHT
TZOFFSETFROM:+0100
TZOFFSETTO:+0200
TZNAME:CEST
DTSTART:20170326T010000
END:DAYLIGHT
BEGIN:STANDARD
TZOFFSETFROM:+0200
TZOFFSETTO:+0100
TZNAME:CET
DTSTART:20171029T010000
END:STANDARD
END:VTIMEZONE
BEGIN:VEVENT
DTSTART;TZID=Europe/Amsterdam:20160424T090000
DTEND;TZID=Europe/Amsterdam:20160424T100000
DTSTAMP:20260423T111054
CREATED:20160416T223704Z
LAST-MODIFIED:20160416T223704Z
UID:1375-1461488400-1461492000@jongerenverenigingwesp.nl
SUMMARY:Viering met Praise
DESCRIPTION:
URL:https://jongerenverenigingwesp.nl/activiteit/viering-met-praise/
LOCATION:De Doortocht\, Hekbootkade 60\, Zoetermeer\, 2725AR\, Nederland
CATEGORIES:Open
ATTACH;FMTTYPE=image/jpeg:https://jongerenverenigingwesp.nl/wp-content/uploads/2016/01/JKPraise.jpg
END:VEVENT
BEGIN:VEVENT
DTSTART;TZID=Europe/Amsterdam:20160416T190000
DTEND;TZID=Europe/Amsterdam:20160416T220000
DTSTAMP:20260423T111054
CREATED:20160406T222602Z
LAST-MODIFIED:20160410T223511Z
UID:1082-1460833200-1460844000@jongerenverenigingwesp.nl
SUMMARY:Ledenvergadering
DESCRIPTION:
URL:https://jongerenverenigingwesp.nl/activiteit/ledenvergadering/
LOCATION:R.K. Jongerenvereniging WESP\, Nicolaasplein 2\, Zoetermeer\, 2712AV\, Nederland
CATEGORIES:Gesloten,Ledenvergadering
ATTACH;FMTTYPE=image/png:https://jongerenverenigingwesp.nl/wp-content/uploads/2015/11/WESP-Logo-Banner.png
END:VEVENT
BEGIN:VEVENT
DTSTART;TZID=Europe/Amsterdam:20160410T173000
DTEND;TZID=Europe/Amsterdam:20160410T173000
DTSTAMP:20260423T111054
CREATED:20160409T133226Z
LAST-MODIFIED:20160410T224005Z
UID:1199-1460309400-1460309400@jongerenverenigingwesp.nl
SUMMARY:RKJ Volleybaltoernooi Peuzel
DESCRIPTION:
URL:https://jongerenverenigingwesp.nl/activiteit/rkj-volleybaltoernooi-peuzel/
LOCATION:R.K. Jongerenvereniging WESP\, Nicolaasplein 2\, Zoetermeer\, 2712AV\, Nederland
CATEGORIES:Activiteit,Halfopen,Mystery Activity
ATTACH;FMTTYPE=image/jpeg:https://jongerenverenigingwesp.nl/wp-content/uploads/2015/03/Volleybal.jpg
END:VEVENT
BEGIN:VEVENT
DTSTART;TZID=Europe/Amsterdam:20160410T110000
DTEND;TZID=Europe/Amsterdam:20160410T160000
DTSTAMP:20260423T111054
CREATED:20160406T222417Z
LAST-MODIFIED:20160410T224005Z
UID:1081-1460286000-1460304000@jongerenverenigingwesp.nl
SUMMARY:RKJ Volleybaltoernooi
DESCRIPTION:Aanmoedigen vanaf 13.00u
URL:https://jongerenverenigingwesp.nl/activiteit/rkj-volleybaltoernooi/
CATEGORIES:Activiteit,Halfopen,Mystery Activity
ATTACH;FMTTYPE=image/jpeg:https://jongerenverenigingwesp.nl/wp-content/uploads/2015/03/Volleybal.jpg
END:VEVENT
BEGIN:VEVENT
DTSTART;TZID=Europe/Amsterdam:20160410T083000
DTEND;TZID=Europe/Amsterdam:20160410T100000
DTSTAMP:20260423T111054
CREATED:20160406T222641Z
LAST-MODIFIED:20160410T224005Z
UID:1083-1460277000-1460282400@jongerenverenigingwesp.nl
SUMMARY:Volleybaltraining
DESCRIPTION:
URL:https://jongerenverenigingwesp.nl/activiteit/volleybaltraining-4/
LOCATION:Noord-Westerhal\, Buytenparklaan 6\, Zoetermeer\, Zuid-Holland\, 2717 AX\, Nederland
CATEGORIES:Activiteit,Halfopen,Mystery Activity
ATTACH;FMTTYPE=image/jpeg:https://jongerenverenigingwesp.nl/wp-content/uploads/2015/03/Volleybal.jpg
END:VEVENT
BEGIN:VEVENT
DTSTART;TZID=Europe/Amsterdam:20160409T183000
DTEND;TZID=Europe/Amsterdam:20160409T183000
DTSTAMP:20260423T111054
CREATED:20160409T132628Z
LAST-MODIFIED:20160410T224005Z
UID:1198-1460226600-1460226600@jongerenverenigingwesp.nl
SUMMARY:Alan Rickman
DESCRIPTION:
URL:https://jongerenverenigingwesp.nl/activiteit/alan-rickman/
LOCATION:R.K. Jongerenvereniging WESP\, Nicolaasplein 2\, Zoetermeer\, 2712AV\, Nederland
CATEGORIES:Activiteit,Halfopen,Mystery Activity
ATTACH;FMTTYPE=image/png:https://jongerenverenigingwesp.nl/wp-content/uploads/2016/04/Mystery-Activity-Banner.png
END:VEVENT
BEGIN:VEVENT
DTSTART;TZID=Europe/Amsterdam:20160409T163000
DTEND;TZID=Europe/Amsterdam:20160409T180000
DTSTAMP:20260423T111054
CREATED:20160121T005806Z
LAST-MODIFIED:20160410T224005Z
UID:1039-1460219400-1460224800@jongerenverenigingwesp.nl
SUMMARY:WESPdiner
DESCRIPTION:
URL:https://jongerenverenigingwesp.nl/activiteit/wespdiner-3/
CATEGORIES:Activiteit,Halfopen,WESPdiner
ATTACH;FMTTYPE=image/png:https://jongerenverenigingwesp.nl/wp-content/uploads/2016/04/WESPdiner-Banner.png
END:VEVENT
BEGIN:VEVENT
DTSTART;TZID=Europe/Amsterdam:20160409T070000
DTEND;TZID=Europe/Amsterdam:20160409T160000
DTSTAMP:20260423T111054
CREATED:20160121T005643Z
LAST-MODIFIED:20160409T152149Z
UID:1038-1460185200-1460217600@jongerenverenigingwesp.nl
SUMMARY:Oud Papier Actie
DESCRIPTION:
URL:https://jongerenverenigingwesp.nl/activiteit/opa-9/
CATEGORIES:Activiteit,Oud Papier Actie
ATTACH;FMTTYPE=image/png:https://jongerenverenigingwesp.nl/wp-content/uploads/2016/04/OudPapierActie-Banner-e1613771233636.png
END:VEVENT
BEGIN:VEVENT
DTSTART;TZID=Europe/Amsterdam:20160326T220000
DTEND;TZID=Europe/Amsterdam:20160327T000000
DTSTAMP:20260423T111054
CREATED:20160121T005530Z
LAST-MODIFIED:20160418T141953Z
UID:1037-1459029600-1459036800@jongerenverenigingwesp.nl
SUMMARY:PaasSOOS
DESCRIPTION:
URL:https://jongerenverenigingwesp.nl/activiteit/paassoos/
LOCATION:R.K. Jongerenvereniging WESP\, Nicolaasplein 2\, Zoetermeer\, 2712AV\, Nederland
CATEGORIES:Activiteit,Halfopen,SOOS
ATTACH;FMTTYPE=image/png:https://jongerenverenigingwesp.nl/wp-content/uploads/2016/04/JongerenSOOS-Banner.png
END:VEVENT
BEGIN:VEVENT
DTSTART;TZID=Europe/Amsterdam:20160325T183000
DTEND;TZID=Europe/Amsterdam:20160326T003000
DTSTAMP:20260423T111054
CREATED:20160121T005358Z
LAST-MODIFIED:20160418T142043Z
UID:1036-1458930600-1458952200@jongerenverenigingwesp.nl
SUMMARY:Repetitie Praise
DESCRIPTION:
URL:https://jongerenverenigingwesp.nl/activiteit/repetitie-praise-2/
LOCATION:R.K. Jongerenvereniging WESP\, Nicolaasplein 2\, Zoetermeer\, 2712AV\, Nederland
CATEGORIES:Activiteit,Gesloten Introducé,Repetitie,SOOS
ATTACH;FMTTYPE=image/jpeg:https://jongerenverenigingwesp.nl/wp-content/uploads/2016/01/JKPraise.jpg
ORGANIZER;CN="R.K. Jongerenkoor Praise":MAILTO:info@jkpraise.nl
END:VEVENT
BEGIN:VEVENT
DTSTART;TZID=Europe/Amsterdam:20160312T183000
DTEND;TZID=Europe/Amsterdam:20160312T220000
DTSTAMP:20260423T111054
CREATED:20160121T005149Z
LAST-MODIFIED:20160418T142142Z
UID:1035-1457807400-1457820000@jongerenverenigingwesp.nl
SUMMARY:Algemene Leden Vergadering
DESCRIPTION:
URL:https://jongerenverenigingwesp.nl/activiteit/alv/
LOCATION:R.K. Jongerenvereniging WESP\, Nicolaasplein 2\, Zoetermeer\, 2712AV\, Nederland
CATEGORIES:Gesloten,Ledenvergadering
ATTACH;FMTTYPE=image/png:https://jongerenverenigingwesp.nl/wp-content/uploads/2015/11/WESP-Logo-Banner.png
END:VEVENT
BEGIN:VEVENT
DTSTART;TZID=Europe/Amsterdam:20160312T163000
DTEND;TZID=Europe/Amsterdam:20160312T180000
DTSTAMP:20260423T111054
CREATED:20160121T005056Z
LAST-MODIFIED:20160418T141913Z
UID:1034-1457800200-1457805600@jongerenverenigingwesp.nl
SUMMARY:WESPdiner
DESCRIPTION:
URL:https://jongerenverenigingwesp.nl/activiteit/wespdiner-2/
LOCATION:R.K. Jongerenvereniging WESP\, Nicolaasplein 2\, Zoetermeer\, 2712AV\, Nederland
CATEGORIES:Activiteit,Halfopen,WESPdiner
ATTACH;FMTTYPE=image/png:https://jongerenverenigingwesp.nl/wp-content/uploads/2016/04/WESPdiner-Banner.png
END:VEVENT
BEGIN:VEVENT
DTSTART;TZID=Europe/Amsterdam:20160312T080000
DTEND;TZID=Europe/Amsterdam:20160312T160000
DTSTAMP:20260423T111054
CREATED:20160121T004920Z
LAST-MODIFIED:20160418T141707Z
UID:1033-1457769600-1457798400@jongerenverenigingwesp.nl
SUMMARY:Oud Papier Actie
DESCRIPTION:← Terug Bedankt voor je reactie. ✨\n\n\n					\n						\n							\n							\n						\n						\n						\n						\n						\n							\n								\n									\n										\n										\n									\n									\n										\n										\n									\n								\n							\n						\n						\n							\n								\n									\n									\n										\n									\n									\n									\n								\n							\n						\n					\n				\n\n\n\nNaam(vereist)\n\n \n			\n				\n					\n						\n						\n						\n					\n				\n				\n			 \n	\n\n\nE-mail(vereist)\n\n \n			\n				\n					\n						\n						\n						\n					\n				\n				\n			 \n	\n\n\nWelke OPA doe je mee?(vereist)\n\n \n			\n				\n					\n						\n						\n						\n					\n				\n				\n			 \n	\n\n\n \nHoud me op de hoogte\n\n\n			\n				\n					\n						\n						\n						\n					\n				\n				\n				\n	\n\n				\n					\n				\n						Verzenden
URL:https://jongerenverenigingwesp.nl/activiteit/opa-8/
LOCATION:R.K. Jongerenvereniging WESP\, Nicolaasplein 2\, Zoetermeer\, 2712AV\, Nederland
CATEGORIES:Activiteit,Open,Oud Papier Actie
ATTACH;FMTTYPE=image/png:https://jongerenverenigingwesp.nl/wp-content/uploads/2016/04/OudPapierActie-Banner-e1613771233636.png
END:VEVENT
BEGIN:VEVENT
DTSTART;TZID=Europe/Amsterdam:20160312T070000
DTEND;TZID=Europe/Amsterdam:20160312T120000
DTSTAMP:20260423T111054
CREATED:20160121T004835Z
LAST-MODIFIED:20160418T141812Z
UID:1032-1457766000-1457784000@jongerenverenigingwesp.nl
SUMMARY:Jantje Beton
DESCRIPTION:
URL:https://jongerenverenigingwesp.nl/activiteit/jantje-beton-3/
CATEGORIES:Activiteit,Jantje Beton,Open
ATTACH;FMTTYPE=image/jpeg:https://jongerenverenigingwesp.nl/wp-content/uploads/2014/12/Jantje-Beton.jpg
END:VEVENT
BEGIN:VEVENT
DTSTART;VALUE=DATE:20160307
DTEND;VALUE=DATE:20160313
DTSTAMP:20260423T111054
CREATED:20160121T004739Z
LAST-MODIFIED:20160418T141528Z
UID:1031-1457323200-1457755199@jongerenverenigingwesp.nl
SUMMARY:Jantje Beton
DESCRIPTION:
URL:https://jongerenverenigingwesp.nl/activiteit/jantje-beton-2/
CATEGORIES:Activiteit,Jantje Beton,Open
ATTACH;FMTTYPE=image/jpeg:https://jongerenverenigingwesp.nl/wp-content/uploads/2014/12/Jantje-Beton.jpg
END:VEVENT
BEGIN:VEVENT
DTSTART;TZID=Europe/Amsterdam:20160227T183000
DTEND;TZID=Europe/Amsterdam:20160228T000000
DTSTAMP:20260423T111054
CREATED:20160121T004525Z
LAST-MODIFIED:20160418T141749Z
UID:1030-1456597800-1456617600@jongerenverenigingwesp.nl
SUMMARY:NERF
DESCRIPTION:
URL:https://jongerenverenigingwesp.nl/activiteit/nerf/
LOCATION:R.K. Jongerenvereniging WESP\, Nicolaasplein 2\, Zoetermeer\, 2712AV\, Nederland
CATEGORIES:Activiteit,Gesloten Introducé,Mystery Activity
ATTACH;FMTTYPE=image/png:https://jongerenverenigingwesp.nl/wp-content/uploads/2016/04/Mystery-Activity-Banner.png
END:VEVENT
BEGIN:VEVENT
DTSTART;TZID=Europe/Amsterdam:20160213T163000
DTEND;TZID=Europe/Amsterdam:20160213T180000
DTSTAMP:20260423T111054
CREATED:20160121T004333Z
LAST-MODIFIED:20160418T141303Z
UID:1029-1455381000-1455386400@jongerenverenigingwesp.nl
SUMMARY:WESPdiner
DESCRIPTION:
URL:https://jongerenverenigingwesp.nl/activiteit/wespdiner/
LOCATION:R.K. Jongerenvereniging WESP\, Nicolaasplein 2\, Zoetermeer\, 2712AV\, Nederland
CATEGORIES:Activiteit,Halfopen,WESPdiner
ATTACH;FMTTYPE=image/png:https://jongerenverenigingwesp.nl/wp-content/uploads/2016/04/WESPdiner-Banner.png
END:VEVENT
BEGIN:VEVENT
DTSTART;TZID=Europe/Amsterdam:20160213T080000
DTEND;TZID=Europe/Amsterdam:20160213T160000
DTSTAMP:20260423T111054
CREATED:20160121T004114Z
LAST-MODIFIED:20160418T141140Z
UID:1028-1455350400-1455379200@jongerenverenigingwesp.nl
SUMMARY:Oud Papier Actie
DESCRIPTION:
URL:https://jongerenverenigingwesp.nl/activiteit/opa-7/
LOCATION:R.K. Jongerenvereniging WESP\, Nicolaasplein 2\, Zoetermeer\, 2712AV\, Nederland
CATEGORIES:Activiteit,Open,Oud Papier Actie
ATTACH;FMTTYPE=image/png:https://jongerenverenigingwesp.nl/wp-content/uploads/2016/04/OudPapierActie-Banner-e1613771233636.png
END:VEVENT
BEGIN:VEVENT
DTSTART;TZID=Europe/Amsterdam:20160212T183000
DTEND;TZID=Europe/Amsterdam:20160213T000000
DTSTAMP:20260423T111054
CREATED:20160121T004000Z
LAST-MODIFIED:20160418T141120Z
UID:1026-1455301800-1455321600@jongerenverenigingwesp.nl
SUMMARY:Praise Repetitie
DESCRIPTION:
URL:https://jongerenverenigingwesp.nl/activiteit/repetitie-praise/
LOCATION:R.K. Jongerenvereniging WESP\, Nicolaasplein 2\, Zoetermeer\, 2712AV\, Nederland
CATEGORIES:Activiteit,Gesloten Introducé,Repetitie,SOOS
ATTACH;FMTTYPE=image/jpeg:https://jongerenverenigingwesp.nl/wp-content/uploads/2016/01/JKPraise.jpg
ORGANIZER;CN="R.K. Jongerenkoor Praise":MAILTO:info@jkpraise.nl
END:VEVENT
BEGIN:VEVENT
DTSTART;TZID=Europe/Amsterdam:20160123T120000
DTEND;TZID=Europe/Amsterdam:20160123T140000
DTSTAMP:20260423T111054
CREATED:20160114T195851Z
LAST-MODIFIED:20160418T140818Z
UID:1024-1453550400-1453557600@jongerenverenigingwesp.nl
SUMMARY:Latin Dans Workshop
DESCRIPTION:Entree is 2 euro voor niet-leden.
URL:https://jongerenverenigingwesp.nl/activiteit/latin-dans-workshop/
LOCATION:R.K. Jongerenvereniging WESP\, Nicolaasplein 2\, Zoetermeer\, 2712AV\, Nederland
CATEGORIES:Activiteit,Halfopen,Mystery Activity
ATTACH;FMTTYPE=image/png:https://jongerenverenigingwesp.nl/wp-content/uploads/2016/04/Mystery-Activity-Banner.png
END:VEVENT
BEGIN:VEVENT
DTSTART;TZID=Europe/Amsterdam:20160109T120000
DTEND;TZID=Europe/Amsterdam:20160109T160000
DTSTAMP:20260423T111054
CREATED:20150526T142339Z
LAST-MODIFIED:20160418T140246Z
UID:892-1452340800-1452355200@jongerenverenigingwesp.nl
SUMMARY:Oud Papier Actie
DESCRIPTION:Elke tweede zaterdag van de maand loopt WESP de Oud Papier Actie om de jongerenvereniging in stand te houden. Ook meelopen? Geef je dan snel op bij Sander. Oud papier inleveren kan bij WESP van 13:00 tot 17:00 \n\n← Terug Bedankt voor je reactie. ✨\n\n\n					\n						\n							\n							\n						\n						\n						\n						\n						\n							\n								\n									\n										\n										\n									\n									\n										\n										\n									\n								\n							\n						\n						\n							\n								\n									\n									\n										\n									\n									\n									\n								\n							\n						\n					\n				\n\n\n\nNaam(vereist)\n\n \n			\n				\n					\n						\n						\n						\n					\n				\n				\n			 \n	\n\n\nE-mail(vereist)\n\n \n			\n				\n					\n						\n						\n						\n					\n				\n				\n			 \n	\n\n\nWelke OPA doe je mee?(vereist)\n\n \n			\n				\n					\n						\n						\n						\n					\n				\n				\n			 \n	\n\n\n \nHoud me op de hoogte\n\n\n			\n				\n					\n						\n						\n						\n					\n				\n				\n				\n	\n\n				\n					\n				\n						Verzenden
URL:https://jongerenverenigingwesp.nl/activiteit/oud-papier-actie-5/
LOCATION:R.K. Jongerenvereniging WESP\, Nicolaasplein 2\, Zoetermeer\, 2712AV\, Nederland
CATEGORIES:Activiteit,Open,Oud Papier Actie
ATTACH;FMTTYPE=image/png:https://jongerenverenigingwesp.nl/wp-content/uploads/2016/04/OudPapierActie-Banner-e1613771233636.png
END:VEVENT
BEGIN:VEVENT
DTSTART;VALUE=DATE:20151227
DTEND;VALUE=DATE:20151229
DTSTAMP:20260423T111054
CREATED:20150906T205351Z
LAST-MODIFIED:20160418T140136Z
UID:942-1451188800-1451275199@jongerenverenigingwesp.nl
SUMMARY:Christmas Cooking
DESCRIPTION:Bij kerst hoort een gezellig feest voor iedereen\, met WESP tijdens de kerstdagen zit je goed. Op derde kerstdag vieren wij samen kerst met een grote ‘ChristmasCooking’. Dus kokkerellen en smikkelen op de feestelijkste manier.
URL:https://jongerenverenigingwesp.nl/activiteit/christmascooking/
CATEGORIES:Activiteit,Gesloten Introducé,WESPdiner
ATTACH;FMTTYPE=image/png:https://jongerenverenigingwesp.nl/wp-content/uploads/2016/04/WESPdiner-Banner.png
END:VEVENT
BEGIN:VEVENT
DTSTART;TZID=Europe/Amsterdam:20151224T193000
DTEND;TZID=Europe/Amsterdam:20151225T000000
DTSTAMP:20260423T111054
CREATED:20150906T204109Z
LAST-MODIFIED:20160418T140024Z
UID:940-1450985400-1451001600@jongerenverenigingwesp.nl
SUMMARY:JongerenSOOS
DESCRIPTION:JongerenSOOS vanaf 20:30 met iedere maand een ander speciaal bier. Zoals altijd: raad als eerste het bier en maak kans op één gratis drankje.
URL:https://jongerenverenigingwesp.nl/activiteit/jongerensoos-4/
CATEGORIES:Activiteit,Halfopen,SOOS
ATTACH;FMTTYPE=image/png:https://jongerenverenigingwesp.nl/wp-content/uploads/2016/04/JongerenSOOS-Banner.png
END:VEVENT
BEGIN:VEVENT
DTSTART;TZID=Europe/Amsterdam:20151212T183000
DTEND;TZID=Europe/Amsterdam:20151212T220000
DTSTAMP:20260423T111054
CREATED:20150904T132300Z
LAST-MODIFIED:20160418T135957Z
UID:927-1449945000-1449957600@jongerenverenigingwesp.nl
SUMMARY:Ledenraad
DESCRIPTION:Ledenraad\, exclusief voor leden.
URL:https://jongerenverenigingwesp.nl/activiteit/ledenraad/
CATEGORIES:Gesloten,Ledenvergadering
ATTACH;FMTTYPE=image/png:https://jongerenverenigingwesp.nl/wp-content/uploads/2015/11/WESP-Logo-Banner.png
END:VEVENT
BEGIN:VEVENT
DTSTART;TZID=Europe/Amsterdam:20151212T163000
DTEND;TZID=Europe/Amsterdam:20151212T180000
DTSTAMP:20260423T111054
CREATED:20150904T160317Z
LAST-MODIFIED:20160418T135911Z
UID:934-1449937800-1449943200@jongerenverenigingwesp.nl
SUMMARY:WESPdiner Toekomst
DESCRIPTION:Na elke OPA een heerlijk WESPdiner met natuurlijk nadruk op diner. De kok is in de toekomst geweest en heeft eten en recepten meegenomen\, laat je zintuigen je niet verraden. Dieetwensen en allergieën graag melden. Vanaf 17:30
URL:https://jongerenverenigingwesp.nl/activiteit/wespdiner-toekomst/
CATEGORIES:Activiteit,Halfopen,WESPdiner
ATTACH;FMTTYPE=image/png:https://jongerenverenigingwesp.nl/wp-content/uploads/2016/04/WESPdiner-Banner.png
END:VEVENT
BEGIN:VEVENT
DTSTART;TZID=Europe/Amsterdam:20151212T120000
DTEND;TZID=Europe/Amsterdam:20151212T160000
DTSTAMP:20260423T111054
CREATED:20150526T133220Z
LAST-MODIFIED:20160418T135845Z
UID:890-1449921600-1449936000@jongerenverenigingwesp.nl
SUMMARY:Oud Papier Actie
DESCRIPTION:Elke tweede zaterdag van de maand loopt WESP de Oud Papier Actie om de jongerenvereniging in stand te houden. Ook meelopen? Geef je dan snel op. Oud papier inleveren kan bij WESP van 13:00 tot 17:00 \n\n← Terug Bedankt voor je reactie. ✨\n\n\n					\n						\n							\n							\n						\n						\n						\n						\n						\n							\n								\n									\n										\n										\n									\n									\n										\n										\n									\n								\n							\n						\n						\n							\n								\n									\n									\n										\n									\n									\n									\n								\n							\n						\n					\n				\n\n\n\nNaam(vereist)\n\n \n			\n				\n					\n						\n						\n						\n					\n				\n				\n			 \n	\n\n\nE-mail(vereist)\n\n \n			\n				\n					\n						\n						\n						\n					\n				\n				\n			 \n	\n\n\nWelke OPA doe je mee?(vereist)\n\n \n			\n				\n					\n						\n						\n						\n					\n				\n				\n			 \n	\n\n\n \nHoud me op de hoogte\n\n\n			\n				\n					\n						\n						\n						\n					\n				\n				\n				\n	\n\n				\n					\n				\n						Verzenden
URL:https://jongerenverenigingwesp.nl/activiteit/oud-papier-actie-4/
LOCATION:R.K. Jongerenvereniging WESP\, Nicolaasplein 2\, Zoetermeer\, 2712AV\, Nederland
CATEGORIES:Activiteit,Open,Oud Papier Actie
ATTACH;FMTTYPE=image/png:https://jongerenverenigingwesp.nl/wp-content/uploads/2016/04/OudPapierActie-Banner-e1613771233636.png
END:VEVENT
BEGIN:VEVENT
DTSTART;TZID=Europe/Amsterdam:20151128T183000
DTEND;TZID=Europe/Amsterdam:20151129T000000
DTSTAMP:20260423T111054
CREATED:20150904T113322Z
LAST-MODIFIED:20160418T135753Z
UID:918-1448735400-1448755200@jongerenverenigingwesp.nl
SUMMARY:Julie Andrews Avond
DESCRIPTION:Julie Andrews avond! Zie meer info op onze facebook.
URL:https://jongerenverenigingwesp.nl/activiteit/julie-andrews-avond/
LOCATION:R.K. Jongerenvereniging WESP\, Nicolaasplein 2\, Zoetermeer\, 2712AV\, Nederland
CATEGORIES:Activiteit,Filmavond,Halfopen
ATTACH;FMTTYPE=image/png:https://jongerenverenigingwesp.nl/wp-content/uploads/2016/04/Filmavond-Banner.png
END:VEVENT
BEGIN:VEVENT
DTSTART;TZID=Europe/Amsterdam:20151114T163000
DTEND;TZID=Europe/Amsterdam:20151114T180000
DTSTAMP:20260423T111054
CREATED:20150904T155623Z
LAST-MODIFIED:20160418T134859Z
UID:932-1447518600-1447524000@jongerenverenigingwesp.nl
SUMMARY:WESPdiner Hollands
DESCRIPTION:Na elke OPA een heerlijk WESPdiner met natuurlijk nadruk op diner. Oer-Hollands zullen onze koks Emilio en EstherR koken\, dus eigenlijk alles dat je zou verwachten. Dieetwensen en allergieën graag melden. Vanaf 17:30
URL:https://jongerenverenigingwesp.nl/activiteit/wespdiner-hollands/
LOCATION:R.K. Jongerenvereniging WESP\, Nicolaasplein 2\, Zoetermeer\, 2712AV\, Nederland
CATEGORIES:Activiteit,Halfopen,WESPdiner
ATTACH;FMTTYPE=image/png:https://jongerenverenigingwesp.nl/wp-content/uploads/2016/04/WESPdiner-Banner.png
END:VEVENT
BEGIN:VEVENT
DTSTART;TZID=Europe/Amsterdam:20151114T120000
DTEND;TZID=Europe/Amsterdam:20151114T160000
DTSTAMP:20260423T111054
CREATED:20150526T133039Z
LAST-MODIFIED:20160418T134825Z
UID:889-1447502400-1447516800@jongerenverenigingwesp.nl
SUMMARY:Oud Papier Actie
DESCRIPTION:Elke tweede zaterdag van de maand loopt WESP de Oud Papier Actie om de jongerenvereniging in stand te houden. Ook meelopen? Geef je dan snel op bij Sander. Oud papier inleveren kan bij WESP van 13:00 tot 17:00 \n\n← Terug Bedankt voor je reactie. ✨\n\n\n					\n						\n							\n							\n						\n						\n						\n						\n						\n							\n								\n									\n										\n										\n									\n									\n										\n										\n									\n								\n							\n						\n						\n							\n								\n									\n									\n										\n									\n									\n									\n								\n							\n						\n					\n				\n\n\n\nNaam(vereist)\n\n \n			\n				\n					\n						\n						\n						\n					\n				\n				\n			 \n	\n\n\nE-mail(vereist)\n\n \n			\n				\n					\n						\n						\n						\n					\n				\n				\n			 \n	\n\n\nWelke OPA doe je mee?(vereist)\n\n \n			\n				\n					\n						\n						\n						\n					\n				\n				\n			 \n	\n\n\n \nHoud me op de hoogte\n\n\n			\n				\n					\n						\n						\n						\n					\n				\n				\n				\n	\n\n				\n					\n				\n						Verzenden
URL:https://jongerenverenigingwesp.nl/activiteit/oud-papier-actie-3/
LOCATION:R.K. Jongerenvereniging WESP\, Nicolaasplein 2\, Zoetermeer\, 2712AV\, Nederland
CATEGORIES:Activiteit,Open,Oud Papier Actie
ATTACH;FMTTYPE=image/png:https://jongerenverenigingwesp.nl/wp-content/uploads/2016/04/OudPapierActie-Banner-e1613771233636.png
END:VEVENT
BEGIN:VEVENT
DTSTART;TZID=Europe/Amsterdam:20151107T183000
DTEND;TZID=Europe/Amsterdam:20151108T020000
DTSTAMP:20260423T111054
CREATED:20150906T210234Z
LAST-MODIFIED:20160418T134727Z
UID:944-1446921000-1446948000@jongerenverenigingwesp.nl
SUMMARY:LAN-party
DESCRIPTION:Een nieuwe LAN-PARTY! Als je nog niet weet wat het is moet je zeker langskomen. We zullen weer een avond tegen elkaar gamen tot waarschijnlijk de allerlaatste uren.
URL:https://jongerenverenigingwesp.nl/activiteit/lan-party-2/
LOCATION:R.K. Jongerenvereniging WESP\, Nicolaasplein 2\, Zoetermeer\, 2712AV\, Nederland
CATEGORIES:Activiteit,Halfopen,Mystery Activity
ATTACH;FMTTYPE=image/jpeg:https://jongerenverenigingwesp.nl/wp-content/uploads/2015/09/WP_20150222_001.jpg
END:VEVENT
END:VCALENDAR