BEGIN:VCALENDAR
VERSION:2.0
PRODID:-//WESP - ECPv6.15.20//NONSGML v1.0//EN
CALSCALE:GREGORIAN
METHOD:PUBLISH
X-WR-CALNAME:WESP
X-ORIGINAL-URL:https://jongerenverenigingwesp.nl
X-WR-CALDESC:Evenementen voor WESP
REFRESH-INTERVAL;VALUE=DURATION:PT1H
X-Robots-Tag:noindex
X-PUBLISHED-TTL:PT1H
BEGIN:VTIMEZONE
TZID:Europe/Amsterdam
BEGIN:DAYLIGHT
TZOFFSETFROM:+0100
TZOFFSETTO:+0200
TZNAME:CEST
DTSTART:20170326T010000
END:DAYLIGHT
BEGIN:STANDARD
TZOFFSETFROM:+0200
TZOFFSETTO:+0100
TZNAME:CET
DTSTART:20171029T010000
END:STANDARD
BEGIN:DAYLIGHT
TZOFFSETFROM:+0100
TZOFFSETTO:+0200
TZNAME:CEST
DTSTART:20180325T010000
END:DAYLIGHT
BEGIN:STANDARD
TZOFFSETFROM:+0200
TZOFFSETTO:+0100
TZNAME:CET
DTSTART:20181028T010000
END:STANDARD
BEGIN:DAYLIGHT
TZOFFSETFROM:+0100
TZOFFSETTO:+0200
TZNAME:CEST
DTSTART:20190331T010000
END:DAYLIGHT
BEGIN:STANDARD
TZOFFSETFROM:+0200
TZOFFSETTO:+0100
TZNAME:CET
DTSTART:20191027T010000
END:STANDARD
END:VTIMEZONE
BEGIN:VEVENT
DTSTART;TZID=Europe/Amsterdam:20180714T183000
DTEND;TZID=Europe/Amsterdam:20180715T010000
DTSTAMP:20260422T170149
CREATED:20180210T212950Z
LAST-MODIFIED:20180703T062422Z
UID:1820-1531593000-1531616400@jongerenverenigingwesp.nl
SUMMARY:Behind enemy lines
DESCRIPTION:Deze avond dreunt de muziek in je oren\, duik je weg achter tafels en stoelen en vliegen de pijlen in het rond! \nWat? Huh? Wat is allemaal aan de hand in de Kapelaan?! \nOhja\, het is weer tijd voor een NERF battle. 😀 \nJij bent natuurlijk ook van harte welkom om gezellig iedereen legaal te komen beschieten.\n(Heb je zelf nog NERF-pistolen en/of een bril dan mag je die natuurlijk ook meenemen.) \nWe hopen je de 14e te zien.
URL:https://jongerenverenigingwesp.nl/activiteit/and-now-for-something-completely-different/
CATEGORIES:Activiteit,Mystery Activity
ATTACH;FMTTYPE=image/png:https://jongerenverenigingwesp.nl/wp-content/uploads/2016/04/Mystery-Activity-Banner.png
END:VEVENT
BEGIN:VEVENT
DTSTART;TZID=Europe/Amsterdam:20180714T163000
DTEND;TZID=Europe/Amsterdam:20180714T180000
DTSTAMP:20260422T170149
CREATED:20180210T170901Z
LAST-MODIFIED:20181022T182649Z
UID:1754-1531585800-1531591200@jongerenverenigingwesp.nl
SUMMARY:Peuzel
DESCRIPTION:Gezellig met z’n allen smikkelen.\nDe kosten zijn €3\,- voor leden en €5\,- voor niet-leden.
URL:https://jongerenverenigingwesp.nl/activiteit/peuzel-11/
CATEGORIES:Activiteit,WESPdiner
ATTACH;FMTTYPE=image/png:https://jongerenverenigingwesp.nl/wp-content/uploads/2016/04/WESPdiner-Banner.png
END:VEVENT
BEGIN:VEVENT
DTSTART;TZID=Europe/Amsterdam:20180714T120000
DTEND;TZID=Europe/Amsterdam:20180714T160000
DTSTAMP:20260422T170149
CREATED:20180210T154632Z
LAST-MODIFIED:20180210T154632Z
UID:1728-1531569600-1531584000@jongerenverenigingwesp.nl
SUMMARY:Oud Papier Actie
DESCRIPTION:Elke 2e zaterdag van de maand kan je papier bij ons langsbrengen.
URL:https://jongerenverenigingwesp.nl/activiteit/oud-papier-actie-17/
CATEGORIES:Activiteit,Oud Papier Actie
ATTACH;FMTTYPE=image/png:https://jongerenverenigingwesp.nl/wp-content/uploads/2016/04/OudPapierActie-Banner-e1613771233636.png
END:VEVENT
BEGIN:VEVENT
DTSTART;TZID=Europe/Amsterdam:20180713T193000
DTEND;TZID=Europe/Amsterdam:20180714T010000
DTSTAMP:20260422T170149
CREATED:20180210T195935Z
LAST-MODIFIED:20180210T195935Z
UID:1775-1531510200-1531530000@jongerenverenigingwesp.nl
SUMMARY:Praise Awards
DESCRIPTION:De jaarlijkse feestelijke zomerafsluiting van Praise.
URL:https://jongerenverenigingwesp.nl/activiteit/praise-awards/
CATEGORIES:Activiteit,Gesloten,Mystery Activity
ATTACH;FMTTYPE=image/jpeg:https://jongerenverenigingwesp.nl/wp-content/uploads/2014/10/Parochieel-Centrum-achterkant.jpg
END:VEVENT
BEGIN:VEVENT
DTSTART;TZID=Europe/Amsterdam:20180629T183000
DTEND;TZID=Europe/Amsterdam:20180630T010000
DTSTAMP:20260422T170149
CREATED:20180210T195646Z
LAST-MODIFIED:20180210T195646Z
UID:1773-1530297000-1530320400@jongerenverenigingwesp.nl
SUMMARY:Praise Repetitie
DESCRIPTION:Deze avond repeteert Praise in De Kapelaan\, gevolgd door een activiteit.
URL:https://jongerenverenigingwesp.nl/activiteit/praise-repetitie-8/
CATEGORIES:Activiteit,Repetitie
ATTACH;FMTTYPE=image/jpeg:https://jongerenverenigingwesp.nl/wp-content/uploads/2016/01/JKPraise.jpg
END:VEVENT
BEGIN:VEVENT
DTSTART;TZID=Europe/Amsterdam:20180609T183000
DTEND;TZID=Europe/Amsterdam:20180610T010000
DTSTAMP:20260422T170149
CREATED:20180210T212846Z
LAST-MODIFIED:20180210T212846Z
UID:1818-1528569000-1528592400@jongerenverenigingwesp.nl
SUMMARY:Het wordt dit!
DESCRIPTION:Nog in te vullen.
URL:https://jongerenverenigingwesp.nl/activiteit/het-wordt-dit/
CATEGORIES:Activiteit,Mystery Activity
ATTACH;FMTTYPE=image/png:https://jongerenverenigingwesp.nl/wp-content/uploads/2016/04/Mystery-Activity-Banner.png
END:VEVENT
BEGIN:VEVENT
DTSTART;TZID=Europe/Amsterdam:20180609T163000
DTEND;TZID=Europe/Amsterdam:20180609T180000
DTSTAMP:20260422T170149
CREATED:20180210T162750Z
LAST-MODIFIED:20180210T162750Z
UID:1752-1528561800-1528567200@jongerenverenigingwesp.nl
SUMMARY:Peuzel
DESCRIPTION:Gezellig met z’n allen smikkelen.\nDe kosten zijn €3\,- voor leden en €5\,- voor niet-leden.
URL:https://jongerenverenigingwesp.nl/activiteit/peuzel-10/
CATEGORIES:Activiteit,WESPdiner
ATTACH;FMTTYPE=image/png:https://jongerenverenigingwesp.nl/wp-content/uploads/2016/04/WESPdiner-Banner.png
END:VEVENT
BEGIN:VEVENT
DTSTART;TZID=Europe/Amsterdam:20180609T120000
DTEND;TZID=Europe/Amsterdam:20180609T160000
DTSTAMP:20260422T170149
CREATED:20180210T155748Z
LAST-MODIFIED:20180210T155748Z
UID:1736-1528545600-1528560000@jongerenverenigingwesp.nl
SUMMARY:Oud Papier Actie
DESCRIPTION:Elke 2e zaterdag van de maand kan je papier bij ons langsbrengen.
URL:https://jongerenverenigingwesp.nl/activiteit/oud-papier-actie-20/
CATEGORIES:Activiteit,Oud Papier Actie
ATTACH;FMTTYPE=image/png:https://jongerenverenigingwesp.nl/wp-content/uploads/2016/04/OudPapierActie-Banner-e1613771233636.png
END:VEVENT
BEGIN:VEVENT
DTSTART;TZID=Europe/Amsterdam:20180526T190000
DTEND;TZID=Europe/Amsterdam:20180526T230000
DTSTAMP:20260422T170149
CREATED:20180210T210806Z
LAST-MODIFIED:20180210T210822Z
UID:1809-1527361200-1527375600@jongerenverenigingwesp.nl
SUMMARY:Borrelen na de Vormselviering
DESCRIPTION:Borrelen na de Vormselviering in De Nicolaas.
URL:https://jongerenverenigingwesp.nl/activiteit/borrelen-na-de-vormselviering/
CATEGORIES:Activiteit,SOOS
ATTACH;FMTTYPE=image/png:https://jongerenverenigingwesp.nl/wp-content/uploads/2016/04/JongerenSOOS-Banner.png
END:VEVENT
BEGIN:VEVENT
DTSTART;TZID=Europe/Amsterdam:20180525T210000
DTEND;TZID=Europe/Amsterdam:20180526T010000
DTSTAMP:20260422T170149
CREATED:20180210T210551Z
LAST-MODIFIED:20180210T210551Z
UID:1806-1527282000-1527296400@jongerenverenigingwesp.nl
SUMMARY:Borrelen
DESCRIPTION:Borrelen na de Praise repetitie in De Nicolaas.
URL:https://jongerenverenigingwesp.nl/activiteit/borrelen-2/
CATEGORIES:Activiteit,SOOS
ATTACH;FMTTYPE=image/png:https://jongerenverenigingwesp.nl/wp-content/uploads/2016/04/JongerenSOOS-Banner.png
END:VEVENT
BEGIN:VEVENT
DTSTART;TZID=Europe/Amsterdam:20180518T210000
DTEND;TZID=Europe/Amsterdam:20180519T010000
DTSTAMP:20260422T170149
CREATED:20180210T210328Z
LAST-MODIFIED:20180210T210442Z
UID:1804-1526677200-1526691600@jongerenverenigingwesp.nl
SUMMARY:Borrelen
DESCRIPTION:Borrelen na de Praise repetitie in De Nicolaas.
URL:https://jongerenverenigingwesp.nl/activiteit/borrelen/
CATEGORIES:Activiteit,Repetitie,SOOS
ATTACH;FMTTYPE=image/png:https://jongerenverenigingwesp.nl/wp-content/uploads/2016/04/JongerenSOOS-Banner.png
END:VEVENT
BEGIN:VEVENT
DTSTART;TZID=Europe/Amsterdam:20180512T183000
DTEND;TZID=Europe/Amsterdam:20180513T010000
DTSTAMP:20260422T170149
CREATED:20180210T212727Z
LAST-MODIFIED:20180210T212727Z
UID:1816-1526149800-1526173200@jongerenverenigingwesp.nl
SUMMARY:Misschien dit dan?
DESCRIPTION:Nog in te vullen.
URL:https://jongerenverenigingwesp.nl/activiteit/misschien-dit-dan/
CATEGORIES:Activiteit,Mystery Activity
ATTACH;FMTTYPE=image/png:https://jongerenverenigingwesp.nl/wp-content/uploads/2016/04/Mystery-Activity-Banner.png
END:VEVENT
BEGIN:VEVENT
DTSTART;TZID=Europe/Amsterdam:20180512T163000
DTEND;TZID=Europe/Amsterdam:20180512T180000
DTSTAMP:20260422T170149
CREATED:20180210T162050Z
LAST-MODIFIED:20180210T162050Z
UID:1750-1526142600-1526148000@jongerenverenigingwesp.nl
SUMMARY:Peuzel
DESCRIPTION:Gezellig met z’n allen smikkelen.\nDe kosten zijn €3\,- voor leden en €5\,- voor niet-leden.
URL:https://jongerenverenigingwesp.nl/activiteit/peuzel-9/
CATEGORIES:Activiteit,WESPdiner
ATTACH;FMTTYPE=image/png:https://jongerenverenigingwesp.nl/wp-content/uploads/2016/04/WESPdiner-Banner.png
END:VEVENT
BEGIN:VEVENT
DTSTART;TZID=Europe/Amsterdam:20180512T120000
DTEND;TZID=Europe/Amsterdam:20180512T160000
DTSTAMP:20260422T170149
CREATED:20180210T154114Z
LAST-MODIFIED:20180210T154139Z
UID:1725-1526126400-1526140800@jongerenverenigingwesp.nl
SUMMARY:Oud Papier Actie
DESCRIPTION:Elke 2e zaterdag van de maand kan je papier bij ons langsbrengen.
URL:https://jongerenverenigingwesp.nl/activiteit/oud-papier-actie-16/
CATEGORIES:Activiteit,Oud Papier Actie
ATTACH;FMTTYPE=image/png:https://jongerenverenigingwesp.nl/wp-content/uploads/2016/04/OudPapierActie-Banner-e1613771233636.png
END:VEVENT
BEGIN:VEVENT
DTSTART;TZID=Europe/Amsterdam:20180505T110000
DTEND;TZID=Europe/Amsterdam:20180506T010000
DTSTAMP:20260422T170149
CREATED:20180210T205254Z
LAST-MODIFIED:20180210T205921Z
UID:1793-1525518000-1525568400@jongerenverenigingwesp.nl
SUMMARY:Bevrijdingsfestival
DESCRIPTION:Gezelligheid rondom het 5 mei bevrijdingsfestival bij de Dobbeplas.
URL:https://jongerenverenigingwesp.nl/activiteit/bevrijdingsfestival-2/
CATEGORIES:Activiteit,SOOS
ATTACH;FMTTYPE=image/jpeg:https://jongerenverenigingwesp.nl/wp-content/uploads/2018/02/Bevrijdingsfestival-1.jpg
END:VEVENT
BEGIN:VEVENT
DTSTART;TZID=Europe/Amsterdam:20180427T183000
DTEND;TZID=Europe/Amsterdam:20180428T010000
DTSTAMP:20260422T170149
CREATED:20180210T195358Z
LAST-MODIFIED:20180426T201521Z
UID:1771-1524853800-1524877200@jongerenverenigingwesp.nl
SUMMARY:Praise Repetitie
DESCRIPTION:Deze avond repeteert Praise in De Kapelaan\, gevolgd door een dansles onder leiding van onze danSander.
URL:https://jongerenverenigingwesp.nl/activiteit/praise-repetitie-7/
CATEGORIES:Activiteit,Repetitie
ATTACH;FMTTYPE=image/jpeg:https://jongerenverenigingwesp.nl/wp-content/uploads/2016/01/JKPraise.jpg
END:VEVENT
BEGIN:VEVENT
DTSTART;TZID=Europe/Amsterdam:20180414T183000
DTEND;TZID=Europe/Amsterdam:20180415T010000
DTSTAMP:20260422T170149
CREATED:20180210T212536Z
LAST-MODIFIED:20180210T212600Z
UID:1813-1523730600-1523754000@jongerenverenigingwesp.nl
SUMMARY:We gaan dit doen\, oh\, nee\, toch niet
DESCRIPTION:Nog in te vullen.
URL:https://jongerenverenigingwesp.nl/activiteit/we-gaan-dit-doen-oh-nee-toch-niet/
CATEGORIES:Activiteit,Mystery Activity
ATTACH;FMTTYPE=image/png:https://jongerenverenigingwesp.nl/wp-content/uploads/2016/04/Mystery-Activity-Banner.png
END:VEVENT
BEGIN:VEVENT
DTSTART;TZID=Europe/Amsterdam:20180414T163000
DTEND;TZID=Europe/Amsterdam:20180414T180000
DTSTAMP:20260422T170149
CREATED:20180210T161722Z
LAST-MODIFIED:20180210T162014Z
UID:1748-1523723400-1523728800@jongerenverenigingwesp.nl
SUMMARY:Peuzel
DESCRIPTION:Gezellig met z’n allen smikkelen.\nDe kosten zijn €3\,- voor leden en €5\,- voor niet-leden.
URL:https://jongerenverenigingwesp.nl/activiteit/peuzel-8/
CATEGORIES:Activiteit,WESPdiner
ATTACH;FMTTYPE=image/png:https://jongerenverenigingwesp.nl/wp-content/uploads/2016/04/WESPdiner-Banner.png
END:VEVENT
BEGIN:VEVENT
DTSTART;TZID=Europe/Amsterdam:20180414T120000
DTEND;TZID=Europe/Amsterdam:20180414T160000
DTSTAMP:20260422T170149
CREATED:20180210T153926Z
LAST-MODIFIED:20180210T153944Z
UID:1720-1523707200-1523721600@jongerenverenigingwesp.nl
SUMMARY:Oud Papier Actie
DESCRIPTION:Elke 2e zaterdag van de maand kan je papier bij ons langsbrengen.
URL:https://jongerenverenigingwesp.nl/activiteit/oud-papier-actie-15/
CATEGORIES:Activiteit,Oud Papier Actie
ATTACH;FMTTYPE=image/png:https://jongerenverenigingwesp.nl/wp-content/uploads/2016/04/OudPapierActie-Banner-e1613771233636.png
END:VEVENT
BEGIN:VEVENT
DTSTART;TZID=Europe/Amsterdam:20180331T210000
DTEND;TZID=Europe/Amsterdam:20180401T010000
DTSTAMP:20260422T170149
CREATED:20180210T203604Z
LAST-MODIFIED:20180210T203604Z
UID:1777-1522530000-1522544400@jongerenverenigingwesp.nl
SUMMARY:Paassoos
DESCRIPTION:Gezellig samenzijn na de paaswake.
URL:https://jongerenverenigingwesp.nl/activiteit/paassoos-2/
CATEGORIES:Activiteit,SOOS
END:VEVENT
BEGIN:VEVENT
DTSTART;TZID=Europe/Amsterdam:20180316T183000
DTEND;TZID=Europe/Amsterdam:20180317T010000
DTSTAMP:20260422T170149
CREATED:20180210T195253Z
LAST-MODIFIED:20180210T195253Z
UID:1768-1521225000-1521248400@jongerenverenigingwesp.nl
SUMMARY:Praise Repetitie
DESCRIPTION:Deze avond repeteert Praise in De Kapelaan\, gevolgd door een activiteit.
URL:https://jongerenverenigingwesp.nl/activiteit/praise-repetitie-6/
CATEGORIES:Activiteit,Repetitie
ATTACH;FMTTYPE=image/jpeg:https://jongerenverenigingwesp.nl/wp-content/uploads/2016/01/JKPraise.jpg
END:VEVENT
BEGIN:VEVENT
DTSTART;TZID=Europe/Amsterdam:20180310T190000
DTEND;TZID=Europe/Amsterdam:20180311T010000
DTSTAMP:20260422T170149
CREATED:20180210T212323Z
LAST-MODIFIED:20180211T131010Z
UID:1811-1520708400-1520730000@jongerenverenigingwesp.nl
SUMMARY:Algemene Leden Vergadering
DESCRIPTION:Inloop vanaf 20.00u\nALV begint 20.30u
URL:https://jongerenverenigingwesp.nl/activiteit/wat-gaan-we-doen/
CATEGORIES:Activiteit,ALV,Ledenvergadering
ATTACH;FMTTYPE=image/png:https://jongerenverenigingwesp.nl/wp-content/uploads/2015/02/wespje_pret-transparant-54ebbeadv1_site_icon.png
END:VEVENT
BEGIN:VEVENT
DTSTART;TZID=Europe/Amsterdam:20180310T163000
DTEND;TZID=Europe/Amsterdam:20180310T180000
DTSTAMP:20260422T170149
CREATED:20180210T161507Z
LAST-MODIFIED:20180210T161507Z
UID:1746-1520699400-1520704800@jongerenverenigingwesp.nl
SUMMARY:Peuzel
DESCRIPTION:Gezellig met z’n allen smikkelen.\nDe kosten zijn €3\,- voor leden en €5\,- voor niet-leden.
URL:https://jongerenverenigingwesp.nl/activiteit/peuzel-7/
CATEGORIES:Activiteit,WESPdiner
ATTACH;FMTTYPE=image/png:https://jongerenverenigingwesp.nl/wp-content/uploads/2016/04/WESPdiner-Banner.png
END:VEVENT
BEGIN:VEVENT
DTSTART;TZID=Europe/Amsterdam:20180310T120000
DTEND;TZID=Europe/Amsterdam:20180310T160000
DTSTAMP:20260422T170149
CREATED:20180210T153758Z
LAST-MODIFIED:20180210T154013Z
UID:1717-1520683200-1520697600@jongerenverenigingwesp.nl
SUMMARY:Oud Papier Actie
DESCRIPTION:Elke 2e zaterdag van de maand kan je papier bij ons langsbrengen.
URL:https://jongerenverenigingwesp.nl/activiteit/oud-papier-actie-14/
CATEGORIES:Activiteit,Oud Papier Actie
ATTACH;FMTTYPE=image/png:https://jongerenverenigingwesp.nl/wp-content/uploads/2016/04/OudPapierActie-Banner-e1613771233636.png
END:VEVENT
BEGIN:VEVENT
DTSTART;TZID=Europe/Amsterdam:20180310T083000
DTEND;TZID=Europe/Amsterdam:20180310T113000
DTSTAMP:20260422T170149
CREATED:20180210T204742Z
LAST-MODIFIED:20180210T204742Z
UID:1791-1520670600-1520681400@jongerenverenigingwesp.nl
SUMMARY:Jantje Beton Collecte
DESCRIPTION:Deze week collecteren we in Zoetermeer voor Jantje Beton. Loop jij deze ochtend mee?
URL:https://jongerenverenigingwesp.nl/activiteit/jantje-beton-collecte-6/
CATEGORIES:Activiteit,Jantje Beton
ATTACH;FMTTYPE=image/gif:https://jongerenverenigingwesp.nl/wp-content/uploads/2018/02/Jantje-Beton.gif
END:VEVENT
BEGIN:VEVENT
DTSTART;TZID=Europe/Amsterdam:20180309T163000
DTEND;TZID=Europe/Amsterdam:20180309T190000
DTSTAMP:20260422T170149
CREATED:20180210T204609Z
LAST-MODIFIED:20180210T204609Z
UID:1789-1520613000-1520622000@jongerenverenigingwesp.nl
SUMMARY:Jantje Beton Collecte
DESCRIPTION:Deze week collecteren we in Zoetermeer voor Jantje Beton. Loop jij ook een avondje mee?
URL:https://jongerenverenigingwesp.nl/activiteit/jantje-beton-collecte-5/
CATEGORIES:Activiteit,Jantje Beton
ATTACH;FMTTYPE=image/gif:https://jongerenverenigingwesp.nl/wp-content/uploads/2018/02/Jantje-Beton.gif
END:VEVENT
BEGIN:VEVENT
DTSTART;TZID=Europe/Amsterdam:20180308T163000
DTEND;TZID=Europe/Amsterdam:20180308T193000
DTSTAMP:20260422T170149
CREATED:20180210T204517Z
LAST-MODIFIED:20180210T204517Z
UID:1787-1520526600-1520537400@jongerenverenigingwesp.nl
SUMMARY:Jantje Beton Collecte
DESCRIPTION:Deze week collecteren we in Zoetermeer voor Jantje Beton. Loop jij ook een avondje mee?
URL:https://jongerenverenigingwesp.nl/activiteit/jantje-beton-collecte-4/
CATEGORIES:Activiteit,Jantje Beton
ATTACH;FMTTYPE=image/gif:https://jongerenverenigingwesp.nl/wp-content/uploads/2018/02/Jantje-Beton.gif
END:VEVENT
BEGIN:VEVENT
DTSTART;TZID=Europe/Amsterdam:20180307T163000
DTEND;TZID=Europe/Amsterdam:20180307T193000
DTSTAMP:20260422T170149
CREATED:20180210T204444Z
LAST-MODIFIED:20180210T204444Z
UID:1785-1520440200-1520451000@jongerenverenigingwesp.nl
SUMMARY:Jantje Beton Collecte
DESCRIPTION:Deze week collecteren we in Zoetermeer voor Jantje Beton. Loop jij ook een avondje mee?
URL:https://jongerenverenigingwesp.nl/activiteit/jantje-beton-collecte-3/
CATEGORIES:Activiteit,Jantje Beton
ATTACH;FMTTYPE=image/gif:https://jongerenverenigingwesp.nl/wp-content/uploads/2018/02/Jantje-Beton.gif
END:VEVENT
BEGIN:VEVENT
DTSTART;TZID=Europe/Amsterdam:20180306T163000
DTEND;TZID=Europe/Amsterdam:20180306T193000
DTSTAMP:20260422T170149
CREATED:20180210T204346Z
LAST-MODIFIED:20180210T204346Z
UID:1783-1520353800-1520364600@jongerenverenigingwesp.nl
SUMMARY:Jantje Beton Collecte
DESCRIPTION:Deze week collecteren we in Zoetermeer voor Jantje Beton. Loop jij ook een avondje mee?
URL:https://jongerenverenigingwesp.nl/activiteit/jantje-beton-collecte-2/
CATEGORIES:Activiteit,Jantje Beton
ATTACH;FMTTYPE=image/gif:https://jongerenverenigingwesp.nl/wp-content/uploads/2018/02/Jantje-Beton.gif
END:VEVENT
BEGIN:VEVENT
DTSTART;TZID=Europe/Amsterdam:20180305T163000
DTEND;TZID=Europe/Amsterdam:20180305T193000
DTSTAMP:20260422T170149
CREATED:20180210T204233Z
LAST-MODIFIED:20180210T204233Z
UID:1780-1520267400-1520278200@jongerenverenigingwesp.nl
SUMMARY:Jantje Beton Collecte
DESCRIPTION:Deze week collecteren we in Zoetermeer voor Jantje Beton. Loop jij ook een avondje mee?
URL:https://jongerenverenigingwesp.nl/activiteit/jantje-beton-collecte/
CATEGORIES:Activiteit,Jantje Beton
ATTACH;FMTTYPE=image/gif:https://jongerenverenigingwesp.nl/wp-content/uploads/2018/02/Jantje-Beton.gif
END:VEVENT
END:VCALENDAR